BEGIN:VCALENDAR
VERSION:2.0
PRODID:-//No to Islamic Republic of Iran - ECPv6.15.20//NONSGML v1.0//EN
CALSCALE:GREGORIAN
METHOD:PUBLISH
X-ORIGINAL-URL:https://no2iri.com
X-WR-CALDESC:Events for No to Islamic Republic of Iran
REFRESH-INTERVAL;VALUE=DURATION:PT1H
X-Robots-Tag:noindex
X-PUBLISHED-TTL:PT1H
BEGIN:VTIMEZONE
TZID:America/New_York
BEGIN:DAYLIGHT
TZOFFSETFROM:-0500
TZOFFSETTO:-0400
TZNAME:EDT
DTSTART:20210314T070000
END:DAYLIGHT
BEGIN:STANDARD
TZOFFSETFROM:-0400
TZOFFSETTO:-0500
TZNAME:EST
DTSTART:20211107T060000
END:STANDARD
BEGIN:DAYLIGHT
TZOFFSETFROM:-0500
TZOFFSETTO:-0400
TZNAME:EDT
DTSTART:20220313T070000
END:DAYLIGHT
BEGIN:STANDARD
TZOFFSETFROM:-0400
TZOFFSETTO:-0500
TZNAME:EST
DTSTART:20221106T060000
END:STANDARD
BEGIN:DAYLIGHT
TZOFFSETFROM:-0500
TZOFFSETTO:-0400
TZNAME:EDT
DTSTART:20230312T070000
END:DAYLIGHT
BEGIN:STANDARD
TZOFFSETFROM:-0400
TZOFFSETTO:-0500
TZNAME:EST
DTSTART:20231105T060000
END:STANDARD
END:VTIMEZONE
BEGIN:VEVENT
DTSTART;TZID=America/New_York:20221001T190000
DTEND;TZID=America/New_York:20221001T210000
DTSTAMP:20260419T164415
CREATED:20221007T054403Z
LAST-MODIFIED:20221007T054403Z
UID:239-1664650800-1664658000@no2iri.com
SUMMARY:The time has come (Valncia - Spain)
DESCRIPTION:Freedom Rally for Iran\nLocation: Plaza de los Pinazo\, Valncia\, Spain
URL:https://no2iri.com/event/the-time-has-come-val%c2%8fncia-spain/
END:VEVENT
BEGIN:VEVENT
DTSTART;TZID=America/New_York:20221001T180000
DTEND;TZID=America/New_York:20221001T200000
DTSTAMP:20260419T164415
CREATED:20221007T054355Z
LAST-MODIFIED:20221007T054355Z
UID:232-1664647200-1664654400@no2iri.com
SUMMARY:The time has come (Tempe AZ - USA)
DESCRIPTION:Freedom Rally for Iran\nLocation: ASU Bridge 542 E University Dr 85281\, Tempe AZ\, USA
URL:https://no2iri.com/event/the-time-has-come-tempe-az-usa/
END:VEVENT
BEGIN:VEVENT
DTSTART;TZID=America/New_York:20221001T180000
DTEND;TZID=America/New_York:20221001T200000
DTSTAMP:20260419T164415
CREATED:20221007T053527Z
LAST-MODIFIED:20221007T053527Z
UID:147-1664647200-1664654400@no2iri.com
SUMMARY:The time has come (Houston - USA)
DESCRIPTION:Freedom Rally for Iran\nLocation: City Hall\, 901 BAGBY ST\, Houston \, USA
URL:https://no2iri.com/event/the-time-has-come-houston-usa/
END:VEVENT
BEGIN:VEVENT
DTSTART;TZID=America/New_York:20221001T180000
DTEND;TZID=America/New_York:20221001T200000
DTSTAMP:20260419T164415
CREATED:20221007T053430Z
LAST-MODIFIED:20221007T053430Z
UID:124-1664647200-1664654400@no2iri.com
SUMMARY:The time has come (Dallas - USA)
DESCRIPTION:Freedom Rally for Iran\nLocation: JFK Memorial Plaza\,  646 Main St.\, Dallas\, TX75202\, Dallas\, USA
URL:https://no2iri.com/event/the-time-has-come-dallas-usa/
END:VEVENT
BEGIN:VEVENT
DTSTART;TZID=America/New_York:20221001T180000
DTEND;TZID=America/New_York:20221001T200000
DTSTAMP:20260419T164415
CREATED:20221007T053048Z
LAST-MODIFIED:20221007T053048Z
UID:92-1664647200-1664654400@no2iri.com
SUMMARY:The time has come (Alicante - Spain)
DESCRIPTION:Freedom Rally for Iran\nLocation: Cruce de explanada con la Rambla. El s‡bado\, Alicante\, Spain
URL:https://no2iri.com/event/the-time-has-come-alicante-spain/
END:VEVENT
BEGIN:VEVENT
DTSTART;TZID=America/New_York:20221001T180000
DTEND;TZID=America/New_York:20221001T200000
DTSTAMP:20260419T164415
CREATED:20221007T053048Z
LAST-MODIFIED:20221007T053048Z
UID:94-1664647200-1664654400@no2iri.com
SUMMARY:The time has come (Athens - Greece)
DESCRIPTION:Freedom Rally for Iran\nLocation: Panepistimiou Metro Station\, Athens\, Greece
URL:https://no2iri.com/event/the-time-has-come-athens-greece/
END:VEVENT
BEGIN:VEVENT
DTSTART;TZID=America/New_York:20221001T173000
DTEND;TZID=America/New_York:20221001T193000
DTSTAMP:20260419T164415
CREATED:20221007T054013Z
LAST-MODIFIED:20221007T054013Z
UID:196-1664645400-1664652600@no2iri.com
SUMMARY:The time has come (Porto - Portugal)
DESCRIPTION:Freedom Rally for Iran\nLocation: D. Jo‹o I Square\, Porto\, Portugal
URL:https://no2iri.com/event/the-time-has-come-porto-portugal/
END:VEVENT
BEGIN:VEVENT
DTSTART;TZID=America/New_York:20221001T173000
DTEND;TZID=America/New_York:20221001T193000
DTSTAMP:20260419T164415
CREATED:20221007T053542Z
LAST-MODIFIED:20221007T053542Z
UID:150-1664645400-1664652600@no2iri.com
SUMMARY:The time has come (Jena - Germany)
DESCRIPTION:Freedom Rally for Iran\nLocation: Marktplatz\, Jena\, Germany
URL:https://no2iri.com/event/the-time-has-come-jena-germany/
END:VEVENT
BEGIN:VEVENT
DTSTART;TZID=America/New_York:20221001T173000
DTEND;TZID=America/New_York:20221001T193000
DTSTAMP:20260419T164415
CREATED:20221007T053541Z
LAST-MODIFIED:20221007T053541Z
UID:149-1664645400-1664652600@no2iri.com
SUMMARY:The time has come (_zmir - TŸrkiye)
DESCRIPTION:Freedom Rally for Iran\nLocation: Konak iskele\, _zmir\, TŸrkiye
URL:https://no2iri.com/event/the-time-has-come-_zmir-tyrkiye/
END:VEVENT
BEGIN:VEVENT
DTSTART;TZID=America/New_York:20221001T173000
DTEND;TZID=America/New_York:20221001T193000
DTSTAMP:20260419T164415
CREATED:20221007T053049Z
LAST-MODIFIED:20221007T053049Z
UID:97-1664645400-1664652600@no2iri.com
SUMMARY:The time has come (Austin - USA)
DESCRIPTION:Freedom Rally for Iran\nLocation: Texas Capitol\, Austin\, USA
URL:https://no2iri.com/event/the-time-has-come-austin-usa/
END:VEVENT
BEGIN:VEVENT
DTSTART;TZID=America/New_York:20221001T173000
DTEND;TZID=America/New_York:20221001T193000
DTSTAMP:20260419T164415
CREATED:20221007T053046Z
LAST-MODIFIED:20221007T053046Z
UID:89-1664645400-1664652600@no2iri.com
SUMMARY:The time has come (Adelaide - Australia)
DESCRIPTION:Freedom Rally for Iran\nLocation: Tarntanyangga / Victoria Square\, Adelaide\, Australia
URL:https://no2iri.com/event/the-time-has-come-adelaide-australia/
END:VEVENT
BEGIN:VEVENT
DTSTART;TZID=America/New_York:20221001T170000
DTEND;TZID=America/New_York:20221001T190000
DTSTAMP:20260419T164415
CREATED:20221007T054413Z
LAST-MODIFIED:20221007T054413Z
UID:242-1664643600-1664650800@no2iri.com
SUMMARY:The time has come (Victoria - Canada)
DESCRIPTION:Freedom Rally for Iran\nLocation: Legislative Assembly of BC\, Belleville Street\, Victoria\, Canada
URL:https://no2iri.com/event/the-time-has-come-victoria-canada/
END:VEVENT
BEGIN:VEVENT
DTSTART;TZID=America/New_York:20221001T170000
DTEND;TZID=America/New_York:20221001T190000
DTSTAMP:20260419T164415
CREATED:20221007T054355Z
LAST-MODIFIED:20221007T054355Z
UID:236-1664643600-1664650800@no2iri.com
SUMMARY:The time has come (Tulsa OK - USA)
DESCRIPTION:Freedom Rally for Iran\nLocation: Center of the universe\, Downtown Tulsa\, Tulsa OK\, USA
URL:https://no2iri.com/event/the-time-has-come-tulsa-ok-usa/
END:VEVENT
BEGIN:VEVENT
DTSTART;TZID=America/New_York:20221001T170000
DTEND;TZID=America/New_York:20221001T190000
DTSTAMP:20260419T164415
CREATED:20221007T054348Z
LAST-MODIFIED:20221007T054348Z
UID:229-1664643600-1664650800@no2iri.com
SUMMARY:The time has come (Tampa FL - USA)
DESCRIPTION:Freedom Rally for Iran\nLocation: ARMATURE WORKS\, RIVERWALK\, Tampa FL\, USA
URL:https://no2iri.com/event/the-time-has-come-tampa-fl-usa/
END:VEVENT
BEGIN:VEVENT
DTSTART;TZID=America/New_York:20221001T170000
DTEND;TZID=America/New_York:20221001T190000
DTSTAMP:20260419T164415
CREATED:20221007T054039Z
LAST-MODIFIED:20221007T054039Z
UID:205-1664643600-1664650800@no2iri.com
SUMMARY:The time has come (Sacramento - USA)
DESCRIPTION:Freedom Rally for Iran\nLocation: 6199 Sunrise Blvd\, Citrus Heights\, Sacramento\, USA
URL:https://no2iri.com/event/the-time-has-come-sacramento-usa/
END:VEVENT
BEGIN:VEVENT
DTSTART;TZID=America/New_York:20221001T170000
DTEND;TZID=America/New_York:20221001T190000
DTSTAMP:20260419T164415
CREATED:20221007T054039Z
LAST-MODIFIED:20221007T054039Z
UID:208-1664643600-1664650800@no2iri.com
SUMMARY:The time has come (San Diego - USA)
DESCRIPTION:Freedom Rally for Iran\nLocation: CROWN POINT DR\, San Diego\, USA
URL:https://no2iri.com/event/the-time-has-come-san-diego-usa/
END:VEVENT
BEGIN:VEVENT
DTSTART;TZID=America/New_York:20221001T170000
DTEND;TZID=America/New_York:20221001T190000
DTSTAMP:20260419T164415
CREATED:20221007T054031Z
LAST-MODIFIED:20221007T054031Z
UID:203-1664643600-1664650800@no2iri.com
SUMMARY:The time has come (Rimini - Italy)
DESCRIPTION:Freedom Rally for Iran\nLocation: Piazza Cavour\, Rimini\, Italy
URL:https://no2iri.com/event/the-time-has-come-rimini-italy/
END:VEVENT
BEGIN:VEVENT
DTSTART;TZID=America/New_York:20221001T170000
DTEND;TZID=America/New_York:20221001T190000
DTSTAMP:20260419T164415
CREATED:20221007T053628Z
LAST-MODIFIED:20221007T053628Z
UID:172-1664643600-1664650800@no2iri.com
SUMMARY:The time has come (Miami - USA)
DESCRIPTION:Freedom Rally for Iran\nLocation: 301 Biscayne Bldv\, Miami\, FL\, 33132\, Miami\, USA
URL:https://no2iri.com/event/the-time-has-come-miami-usa/
END:VEVENT
BEGIN:VEVENT
DTSTART;TZID=America/New_York:20221001T170000
DTEND;TZID=America/New_York:20221001T190000
DTSTAMP:20260419T164415
CREATED:20221007T053623Z
LAST-MODIFIED:20221007T053623Z
UID:166-1664643600-1664650800@no2iri.com
SUMMARY:The time has come (Madrid - Spain)
DESCRIPTION:Freedom Rally for Iran\nLocation: Metro Callao\, Madrid\, Spain
URL:https://no2iri.com/event/the-time-has-come-madrid-spain/
END:VEVENT
BEGIN:VEVENT
DTSTART;TZID=America/New_York:20221001T170000
DTEND;TZID=America/New_York:20221001T190000
DTSTAMP:20260419T164415
CREATED:20221007T053559Z
LAST-MODIFIED:20221007T053559Z
UID:154-1664643600-1664650800@no2iri.com
SUMMARY:The time has come (Krak—w - Poland)
DESCRIPTION:Freedom Rally for Iran\nLocation: Rynek\, Krak—w\, Poland
URL:https://no2iri.com/event/the-time-has-come-krak-w-poland/
END:VEVENT
BEGIN:VEVENT
DTSTART;TZID=America/New_York:20221001T170000
DTEND;TZID=America/New_York:20221001T190000
DTSTAMP:20260419T164415
CREATED:20221007T053150Z
LAST-MODIFIED:20221007T053150Z
UID:120-1664643600-1664650800@no2iri.com
SUMMARY:The time has come (Copenhagen - Denmark)
DESCRIPTION:Freedom Rally for Iran\nLocation: RŠdhuspladsen\, Copenhagen \, Denmark
URL:https://no2iri.com/event/the-time-has-come-copenhagen-denmark/
END:VEVENT
BEGIN:VEVENT
DTSTART;TZID=America/New_York:20221001T163000
DTEND;TZID=America/New_York:20221001T183000
DTSTAMP:20260419T164415
CREATED:20221007T054403Z
LAST-MODIFIED:20221007T054403Z
UID:241-1664641800-1664649000@no2iri.com
SUMMARY:The time has come (Venice - Italy)
DESCRIPTION:Freedom Rally for Iran\nLocation: Stazione S. Lucia\, Venice\, Italy
URL:https://no2iri.com/event/the-time-has-come-venice-italy/
END:VEVENT
BEGIN:VEVENT
DTSTART;TZID=America/New_York:20221001T163000
DTEND;TZID=America/New_York:20221001T183000
DTSTAMP:20260419T164415
CREATED:20221007T053623Z
LAST-MODIFIED:20221007T053623Z
UID:165-1664641800-1664649000@no2iri.com
SUMMARY:The time has come (Lugano - Switzerland)
DESCRIPTION:Freedom Rally for Iran\nLocation: Piazza Dante\, Lugano\, Switzerland
URL:https://no2iri.com/event/the-time-has-come-lugano-switzerland/
END:VEVENT
BEGIN:VEVENT
DTSTART;TZID=America/New_York:20221001T163000
DTEND;TZID=America/New_York:20221001T183000
DTSTAMP:20260419T164415
CREATED:20221007T053527Z
LAST-MODIFIED:20221007T053527Z
UID:146-1664641800-1664649000@no2iri.com
SUMMARY:The time has come (Hobart - Tasmania)
DESCRIPTION:Freedom Rally for Iran\nLocation: Parliament Lawns\, Hobart\, Tasmania
URL:https://no2iri.com/event/the-time-has-come-hobart-tasmania/
END:VEVENT
BEGIN:VEVENT
DTSTART;TZID=America/New_York:20221001T163000
DTEND;TZID=America/New_York:20221001T183000
DTSTAMP:20260419T164415
CREATED:20221007T053512Z
LAST-MODIFIED:20221007T053512Z
UID:142-1664641800-1664649000@no2iri.com
SUMMARY:The time has come (Halifax - Canada)
DESCRIPTION:Freedom Rally for Iran\nLocation: Victoria Park\, South Park Street\, Halifax\, Canada
URL:https://no2iri.com/event/the-time-has-come-halifax-canada/
END:VEVENT
BEGIN:VEVENT
DTSTART;TZID=America/New_York:20221001T160000
DTEND;TZID=America/New_York:20221001T180000
DTSTAMP:20260419T164415
CREATED:20221007T054413Z
LAST-MODIFIED:20221007T054413Z
UID:243-1664640000-1664647200@no2iri.com
SUMMARY:The time has come (Vienna - Austria)
DESCRIPTION:Freedom Rally for Iran\nLocation: Stock-im-Eisen-Platz 3 1010 Wien (Stephansplatz)\, Vienna\, Austria
URL:https://no2iri.com/event/the-time-has-come-vienna-austria/
END:VEVENT
BEGIN:VEVENT
DTSTART;TZID=America/New_York:20221001T160000
DTEND;TZID=America/New_York:20221001T180000
DTSTAMP:20260419T164415
CREATED:20221007T054413Z
LAST-MODIFIED:20221007T054413Z
UID:245-1664640000-1664647200@no2iri.com
SUMMARY:The time has come (Washington DC - USA)
DESCRIPTION:Freedom Rally for Iran\nLocation: Faraggut Square\, Washington DC\, Washington DC\, USA
URL:https://no2iri.com/event/the-time-has-come-washington-dc-usa/
END:VEVENT
BEGIN:VEVENT
DTSTART;TZID=America/New_York:20221001T160000
DTEND;TZID=America/New_York:20221001T180000
DTSTAMP:20260419T164415
CREATED:20221007T054348Z
LAST-MODIFIED:20221007T054348Z
UID:228-1664640000-1664647200@no2iri.com
SUMMARY:The time has come (Tallinn - Estonia)
DESCRIPTION:Freedom Rally for Iran\nLocation: Freedom Square\, City Centre\, Tallinn\, Estonia
URL:https://no2iri.com/event/the-time-has-come-tallinn-estonia/
END:VEVENT
BEGIN:VEVENT
DTSTART;TZID=America/New_York:20221001T160000
DTEND;TZID=America/New_York:20221001T180000
DTSTAMP:20260419T164415
CREATED:20221007T054332Z
LAST-MODIFIED:20221007T054332Z
UID:223-1664640000-1664647200@no2iri.com
SUMMARY:The time has come (Strasbourg - France)
DESCRIPTION:Freedom Rally for Iran\nLocation: Pl. du Corbeau\, Strasbourg\, France
URL:https://no2iri.com/event/the-time-has-come-strasbourg-france/
END:VEVENT
BEGIN:VEVENT
DTSTART;TZID=America/New_York:20221001T160000
DTEND;TZID=America/New_York:20221001T180000
DTSTAMP:20260419T164415
CREATED:20221007T054332Z
LAST-MODIFIED:20221007T054332Z
UID:226-1664640000-1664647200@no2iri.com
SUMMARY:The time has come (Sydney - Australia)
DESCRIPTION:Freedom Rally for Iran\nLocation: BELMORE PARK\, ON EDDY AVENUE\, CENTRAL STATION\, Sydney\, Australia
URL:https://no2iri.com/event/the-time-has-come-sydney-australia/
END:VEVENT
END:VCALENDAR