BEGIN:VCALENDAR
VERSION:2.0
PRODID:-//No to Islamic Republic of Iran - ECPv6.15.20//NONSGML v1.0//EN
CALSCALE:GREGORIAN
METHOD:PUBLISH
X-WR-CALNAME:No to Islamic Republic of Iran
X-ORIGINAL-URL:https://no2iri.com
X-WR-CALDESC:Events for No to Islamic Republic of Iran
REFRESH-INTERVAL;VALUE=DURATION:PT1H
X-Robots-Tag:noindex
X-PUBLISHED-TTL:PT1H
BEGIN:VTIMEZONE
TZID:America/New_York
BEGIN:DAYLIGHT
TZOFFSETFROM:-0500
TZOFFSETTO:-0400
TZNAME:EDT
DTSTART:19690427T070000
END:DAYLIGHT
BEGIN:STANDARD
TZOFFSETFROM:-0400
TZOFFSETTO:-0500
TZNAME:EST
DTSTART:19691026T060000
END:STANDARD
BEGIN:DAYLIGHT
TZOFFSETFROM:-0500
TZOFFSETTO:-0400
TZNAME:EDT
DTSTART:19700426T070000
END:DAYLIGHT
BEGIN:STANDARD
TZOFFSETFROM:-0400
TZOFFSETTO:-0500
TZNAME:EST
DTSTART:19701025T060000
END:STANDARD
BEGIN:DAYLIGHT
TZOFFSETFROM:-0500
TZOFFSETTO:-0400
TZNAME:EDT
DTSTART:19710425T070000
END:DAYLIGHT
BEGIN:STANDARD
TZOFFSETFROM:-0400
TZOFFSETTO:-0500
TZNAME:EST
DTSTART:19711031T060000
END:STANDARD
BEGIN:DAYLIGHT
TZOFFSETFROM:-0500
TZOFFSETTO:-0400
TZNAME:EDT
DTSTART:19720430T070000
END:DAYLIGHT
BEGIN:STANDARD
TZOFFSETFROM:-0400
TZOFFSETTO:-0500
TZNAME:EST
DTSTART:19721029T060000
END:STANDARD
BEGIN:DAYLIGHT
TZOFFSETFROM:-0500
TZOFFSETTO:-0400
TZNAME:EDT
DTSTART:19730429T070000
END:DAYLIGHT
BEGIN:STANDARD
TZOFFSETFROM:-0400
TZOFFSETTO:-0500
TZNAME:EST
DTSTART:19731028T060000
END:STANDARD
BEGIN:DAYLIGHT
TZOFFSETFROM:-0500
TZOFFSETTO:-0400
TZNAME:EDT
DTSTART:19740106T070000
END:DAYLIGHT
BEGIN:STANDARD
TZOFFSETFROM:-0400
TZOFFSETTO:-0500
TZNAME:EST
DTSTART:19741027T060000
END:STANDARD
BEGIN:DAYLIGHT
TZOFFSETFROM:-0500
TZOFFSETTO:-0400
TZNAME:EDT
DTSTART:19750223T070000
END:DAYLIGHT
BEGIN:STANDARD
TZOFFSETFROM:-0400
TZOFFSETTO:-0500
TZNAME:EST
DTSTART:19751026T060000
END:STANDARD
BEGIN:DAYLIGHT
TZOFFSETFROM:-0500
TZOFFSETTO:-0400
TZNAME:EDT
DTSTART:19760425T070000
END:DAYLIGHT
BEGIN:STANDARD
TZOFFSETFROM:-0400
TZOFFSETTO:-0500
TZNAME:EST
DTSTART:19761031T060000
END:STANDARD
BEGIN:DAYLIGHT
TZOFFSETFROM:-0500
TZOFFSETTO:-0400
TZNAME:EDT
DTSTART:19770424T070000
END:DAYLIGHT
BEGIN:STANDARD
TZOFFSETFROM:-0400
TZOFFSETTO:-0500
TZNAME:EST
DTSTART:19771030T060000
END:STANDARD
BEGIN:DAYLIGHT
TZOFFSETFROM:-0500
TZOFFSETTO:-0400
TZNAME:EDT
DTSTART:19780430T070000
END:DAYLIGHT
BEGIN:STANDARD
TZOFFSETFROM:-0400
TZOFFSETTO:-0500
TZNAME:EST
DTSTART:19781029T060000
END:STANDARD
BEGIN:DAYLIGHT
TZOFFSETFROM:-0500
TZOFFSETTO:-0400
TZNAME:EDT
DTSTART:19790429T070000
END:DAYLIGHT
BEGIN:STANDARD
TZOFFSETFROM:-0400
TZOFFSETTO:-0500
TZNAME:EST
DTSTART:19791028T060000
END:STANDARD
BEGIN:DAYLIGHT
TZOFFSETFROM:-0500
TZOFFSETTO:-0400
TZNAME:EDT
DTSTART:19800427T070000
END:DAYLIGHT
BEGIN:STANDARD
TZOFFSETFROM:-0400
TZOFFSETTO:-0500
TZNAME:EST
DTSTART:19801026T060000
END:STANDARD
BEGIN:DAYLIGHT
TZOFFSETFROM:-0500
TZOFFSETTO:-0400
TZNAME:EDT
DTSTART:19810426T070000
END:DAYLIGHT
BEGIN:STANDARD
TZOFFSETFROM:-0400
TZOFFSETTO:-0500
TZNAME:EST
DTSTART:19811025T060000
END:STANDARD
BEGIN:DAYLIGHT
TZOFFSETFROM:-0500
TZOFFSETTO:-0400
TZNAME:EDT
DTSTART:19820425T070000
END:DAYLIGHT
BEGIN:STANDARD
TZOFFSETFROM:-0400
TZOFFSETTO:-0500
TZNAME:EST
DTSTART:19821031T060000
END:STANDARD
BEGIN:DAYLIGHT
TZOFFSETFROM:-0500
TZOFFSETTO:-0400
TZNAME:EDT
DTSTART:19830424T070000
END:DAYLIGHT
BEGIN:STANDARD
TZOFFSETFROM:-0400
TZOFFSETTO:-0500
TZNAME:EST
DTSTART:19831030T060000
END:STANDARD
BEGIN:DAYLIGHT
TZOFFSETFROM:-0500
TZOFFSETTO:-0400
TZNAME:EDT
DTSTART:19840429T070000
END:DAYLIGHT
BEGIN:STANDARD
TZOFFSETFROM:-0400
TZOFFSETTO:-0500
TZNAME:EST
DTSTART:19841028T060000
END:STANDARD
BEGIN:DAYLIGHT
TZOFFSETFROM:-0500
TZOFFSETTO:-0400
TZNAME:EDT
DTSTART:19850428T070000
END:DAYLIGHT
BEGIN:STANDARD
TZOFFSETFROM:-0400
TZOFFSETTO:-0500
TZNAME:EST
DTSTART:19851027T060000
END:STANDARD
BEGIN:DAYLIGHT
TZOFFSETFROM:-0500
TZOFFSETTO:-0400
TZNAME:EDT
DTSTART:19860427T070000
END:DAYLIGHT
BEGIN:STANDARD
TZOFFSETFROM:-0400
TZOFFSETTO:-0500
TZNAME:EST
DTSTART:19861026T060000
END:STANDARD
BEGIN:DAYLIGHT
TZOFFSETFROM:-0500
TZOFFSETTO:-0400
TZNAME:EDT
DTSTART:19870405T070000
END:DAYLIGHT
BEGIN:STANDARD
TZOFFSETFROM:-0400
TZOFFSETTO:-0500
TZNAME:EST
DTSTART:19871025T060000
END:STANDARD
BEGIN:DAYLIGHT
TZOFFSETFROM:-0500
TZOFFSETTO:-0400
TZNAME:EDT
DTSTART:19880403T070000
END:DAYLIGHT
BEGIN:STANDARD
TZOFFSETFROM:-0400
TZOFFSETTO:-0500
TZNAME:EST
DTSTART:19881030T060000
END:STANDARD
BEGIN:DAYLIGHT
TZOFFSETFROM:-0500
TZOFFSETTO:-0400
TZNAME:EDT
DTSTART:19890402T070000
END:DAYLIGHT
BEGIN:STANDARD
TZOFFSETFROM:-0400
TZOFFSETTO:-0500
TZNAME:EST
DTSTART:19891029T060000
END:STANDARD
BEGIN:DAYLIGHT
TZOFFSETFROM:-0500
TZOFFSETTO:-0400
TZNAME:EDT
DTSTART:19900401T070000
END:DAYLIGHT
BEGIN:STANDARD
TZOFFSETFROM:-0400
TZOFFSETTO:-0500
TZNAME:EST
DTSTART:19901028T060000
END:STANDARD
BEGIN:DAYLIGHT
TZOFFSETFROM:-0500
TZOFFSETTO:-0400
TZNAME:EDT
DTSTART:19910407T070000
END:DAYLIGHT
BEGIN:STANDARD
TZOFFSETFROM:-0400
TZOFFSETTO:-0500
TZNAME:EST
DTSTART:19911027T060000
END:STANDARD
BEGIN:DAYLIGHT
TZOFFSETFROM:-0500
TZOFFSETTO:-0400
TZNAME:EDT
DTSTART:19920405T070000
END:DAYLIGHT
BEGIN:STANDARD
TZOFFSETFROM:-0400
TZOFFSETTO:-0500
TZNAME:EST
DTSTART:19921025T060000
END:STANDARD
BEGIN:DAYLIGHT
TZOFFSETFROM:-0500
TZOFFSETTO:-0400
TZNAME:EDT
DTSTART:19930404T070000
END:DAYLIGHT
BEGIN:STANDARD
TZOFFSETFROM:-0400
TZOFFSETTO:-0500
TZNAME:EST
DTSTART:19931031T060000
END:STANDARD
BEGIN:DAYLIGHT
TZOFFSETFROM:-0500
TZOFFSETTO:-0400
TZNAME:EDT
DTSTART:19940403T070000
END:DAYLIGHT
BEGIN:STANDARD
TZOFFSETFROM:-0400
TZOFFSETTO:-0500
TZNAME:EST
DTSTART:19941030T060000
END:STANDARD
BEGIN:DAYLIGHT
TZOFFSETFROM:-0500
TZOFFSETTO:-0400
TZNAME:EDT
DTSTART:19950402T070000
END:DAYLIGHT
BEGIN:STANDARD
TZOFFSETFROM:-0400
TZOFFSETTO:-0500
TZNAME:EST
DTSTART:19951029T060000
END:STANDARD
BEGIN:DAYLIGHT
TZOFFSETFROM:-0500
TZOFFSETTO:-0400
TZNAME:EDT
DTSTART:19960407T070000
END:DAYLIGHT
BEGIN:STANDARD
TZOFFSETFROM:-0400
TZOFFSETTO:-0500
TZNAME:EST
DTSTART:19961027T060000
END:STANDARD
BEGIN:DAYLIGHT
TZOFFSETFROM:-0500
TZOFFSETTO:-0400
TZNAME:EDT
DTSTART:19970406T070000
END:DAYLIGHT
BEGIN:STANDARD
TZOFFSETFROM:-0400
TZOFFSETTO:-0500
TZNAME:EST
DTSTART:19971026T060000
END:STANDARD
BEGIN:DAYLIGHT
TZOFFSETFROM:-0500
TZOFFSETTO:-0400
TZNAME:EDT
DTSTART:19980405T070000
END:DAYLIGHT
BEGIN:STANDARD
TZOFFSETFROM:-0400
TZOFFSETTO:-0500
TZNAME:EST
DTSTART:19981025T060000
END:STANDARD
BEGIN:DAYLIGHT
TZOFFSETFROM:-0500
TZOFFSETTO:-0400
TZNAME:EDT
DTSTART:19990404T070000
END:DAYLIGHT
BEGIN:STANDARD
TZOFFSETFROM:-0400
TZOFFSETTO:-0500
TZNAME:EST
DTSTART:19991031T060000
END:STANDARD
BEGIN:DAYLIGHT
TZOFFSETFROM:-0500
TZOFFSETTO:-0400
TZNAME:EDT
DTSTART:20000402T070000
END:DAYLIGHT
BEGIN:STANDARD
TZOFFSETFROM:-0400
TZOFFSETTO:-0500
TZNAME:EST
DTSTART:20001029T060000
END:STANDARD
BEGIN:DAYLIGHT
TZOFFSETFROM:-0500
TZOFFSETTO:-0400
TZNAME:EDT
DTSTART:20010401T070000
END:DAYLIGHT
BEGIN:STANDARD
TZOFFSETFROM:-0400
TZOFFSETTO:-0500
TZNAME:EST
DTSTART:20011028T060000
END:STANDARD
BEGIN:DAYLIGHT
TZOFFSETFROM:-0500
TZOFFSETTO:-0400
TZNAME:EDT
DTSTART:20020407T070000
END:DAYLIGHT
BEGIN:STANDARD
TZOFFSETFROM:-0400
TZOFFSETTO:-0500
TZNAME:EST
DTSTART:20021027T060000
END:STANDARD
BEGIN:DAYLIGHT
TZOFFSETFROM:-0500
TZOFFSETTO:-0400
TZNAME:EDT
DTSTART:20030406T070000
END:DAYLIGHT
BEGIN:STANDARD
TZOFFSETFROM:-0400
TZOFFSETTO:-0500
TZNAME:EST
DTSTART:20031026T060000
END:STANDARD
BEGIN:DAYLIGHT
TZOFFSETFROM:-0500
TZOFFSETTO:-0400
TZNAME:EDT
DTSTART:20040404T070000
END:DAYLIGHT
BEGIN:STANDARD
TZOFFSETFROM:-0400
TZOFFSETTO:-0500
TZNAME:EST
DTSTART:20041031T060000
END:STANDARD
BEGIN:DAYLIGHT
TZOFFSETFROM:-0500
TZOFFSETTO:-0400
TZNAME:EDT
DTSTART:20050403T070000
END:DAYLIGHT
BEGIN:STANDARD
TZOFFSETFROM:-0400
TZOFFSETTO:-0500
TZNAME:EST
DTSTART:20051030T060000
END:STANDARD
BEGIN:DAYLIGHT
TZOFFSETFROM:-0500
TZOFFSETTO:-0400
TZNAME:EDT
DTSTART:20060402T070000
END:DAYLIGHT
BEGIN:STANDARD
TZOFFSETFROM:-0400
TZOFFSETTO:-0500
TZNAME:EST
DTSTART:20061029T060000
END:STANDARD
BEGIN:DAYLIGHT
TZOFFSETFROM:-0500
TZOFFSETTO:-0400
TZNAME:EDT
DTSTART:20070311T070000
END:DAYLIGHT
BEGIN:STANDARD
TZOFFSETFROM:-0400
TZOFFSETTO:-0500
TZNAME:EST
DTSTART:20071104T060000
END:STANDARD
BEGIN:DAYLIGHT
TZOFFSETFROM:-0500
TZOFFSETTO:-0400
TZNAME:EDT
DTSTART:20080309T070000
END:DAYLIGHT
BEGIN:STANDARD
TZOFFSETFROM:-0400
TZOFFSETTO:-0500
TZNAME:EST
DTSTART:20081102T060000
END:STANDARD
BEGIN:DAYLIGHT
TZOFFSETFROM:-0500
TZOFFSETTO:-0400
TZNAME:EDT
DTSTART:20090308T070000
END:DAYLIGHT
BEGIN:STANDARD
TZOFFSETFROM:-0400
TZOFFSETTO:-0500
TZNAME:EST
DTSTART:20091101T060000
END:STANDARD
BEGIN:DAYLIGHT
TZOFFSETFROM:-0500
TZOFFSETTO:-0400
TZNAME:EDT
DTSTART:20100314T070000
END:DAYLIGHT
BEGIN:STANDARD
TZOFFSETFROM:-0400
TZOFFSETTO:-0500
TZNAME:EST
DTSTART:20101107T060000
END:STANDARD
BEGIN:DAYLIGHT
TZOFFSETFROM:-0500
TZOFFSETTO:-0400
TZNAME:EDT
DTSTART:20110313T070000
END:DAYLIGHT
BEGIN:STANDARD
TZOFFSETFROM:-0400
TZOFFSETTO:-0500
TZNAME:EST
DTSTART:20111106T060000
END:STANDARD
BEGIN:DAYLIGHT
TZOFFSETFROM:-0500
TZOFFSETTO:-0400
TZNAME:EDT
DTSTART:20120311T070000
END:DAYLIGHT
BEGIN:STANDARD
TZOFFSETFROM:-0400
TZOFFSETTO:-0500
TZNAME:EST
DTSTART:20121104T060000
END:STANDARD
BEGIN:DAYLIGHT
TZOFFSETFROM:-0500
TZOFFSETTO:-0400
TZNAME:EDT
DTSTART:20130310T070000
END:DAYLIGHT
BEGIN:STANDARD
TZOFFSETFROM:-0400
TZOFFSETTO:-0500
TZNAME:EST
DTSTART:20131103T060000
END:STANDARD
BEGIN:DAYLIGHT
TZOFFSETFROM:-0500
TZOFFSETTO:-0400
TZNAME:EDT
DTSTART:20140309T070000
END:DAYLIGHT
BEGIN:STANDARD
TZOFFSETFROM:-0400
TZOFFSETTO:-0500
TZNAME:EST
DTSTART:20141102T060000
END:STANDARD
BEGIN:DAYLIGHT
TZOFFSETFROM:-0500
TZOFFSETTO:-0400
TZNAME:EDT
DTSTART:20150308T070000
END:DAYLIGHT
BEGIN:STANDARD
TZOFFSETFROM:-0400
TZOFFSETTO:-0500
TZNAME:EST
DTSTART:20151101T060000
END:STANDARD
BEGIN:DAYLIGHT
TZOFFSETFROM:-0500
TZOFFSETTO:-0400
TZNAME:EDT
DTSTART:20160313T070000
END:DAYLIGHT
BEGIN:STANDARD
TZOFFSETFROM:-0400
TZOFFSETTO:-0500
TZNAME:EST
DTSTART:20161106T060000
END:STANDARD
BEGIN:DAYLIGHT
TZOFFSETFROM:-0500
TZOFFSETTO:-0400
TZNAME:EDT
DTSTART:20170312T070000
END:DAYLIGHT
BEGIN:STANDARD
TZOFFSETFROM:-0400
TZOFFSETTO:-0500
TZNAME:EST
DTSTART:20171105T060000
END:STANDARD
BEGIN:DAYLIGHT
TZOFFSETFROM:-0500
TZOFFSETTO:-0400
TZNAME:EDT
DTSTART:20180311T070000
END:DAYLIGHT
BEGIN:STANDARD
TZOFFSETFROM:-0400
TZOFFSETTO:-0500
TZNAME:EST
DTSTART:20181104T060000
END:STANDARD
BEGIN:DAYLIGHT
TZOFFSETFROM:-0500
TZOFFSETTO:-0400
TZNAME:EDT
DTSTART:20190310T070000
END:DAYLIGHT
BEGIN:STANDARD
TZOFFSETFROM:-0400
TZOFFSETTO:-0500
TZNAME:EST
DTSTART:20191103T060000
END:STANDARD
BEGIN:DAYLIGHT
TZOFFSETFROM:-0500
TZOFFSETTO:-0400
TZNAME:EDT
DTSTART:20200308T070000
END:DAYLIGHT
BEGIN:STANDARD
TZOFFSETFROM:-0400
TZOFFSETTO:-0500
TZNAME:EST
DTSTART:20201101T060000
END:STANDARD
BEGIN:DAYLIGHT
TZOFFSETFROM:-0500
TZOFFSETTO:-0400
TZNAME:EDT
DTSTART:20210314T070000
END:DAYLIGHT
BEGIN:STANDARD
TZOFFSETFROM:-0400
TZOFFSETTO:-0500
TZNAME:EST
DTSTART:20211107T060000
END:STANDARD
BEGIN:DAYLIGHT
TZOFFSETFROM:-0500
TZOFFSETTO:-0400
TZNAME:EDT
DTSTART:20220313T070000
END:DAYLIGHT
BEGIN:STANDARD
TZOFFSETFROM:-0400
TZOFFSETTO:-0500
TZNAME:EST
DTSTART:20221106T060000
END:STANDARD
BEGIN:DAYLIGHT
TZOFFSETFROM:-0500
TZOFFSETTO:-0400
TZNAME:EDT
DTSTART:20230312T070000
END:DAYLIGHT
BEGIN:STANDARD
TZOFFSETFROM:-0400
TZOFFSETTO:-0500
TZNAME:EST
DTSTART:20231105T060000
END:STANDARD
END:VTIMEZONE
BEGIN:VEVENT
DTSTART;TZID=America/New_York:20221001T110000
DTEND;TZID=America/New_York:20221001T130000
DTSTAMP:20260420T143552
CREATED:20221007T053956Z
LAST-MODIFIED:20221007T053956Z
UID:190-1664622000-1664629200@no2iri.com
SUMMARY:The time has come (Perth - Australia)
DESCRIPTION:Freedom Rally for Iran\nLocation: forrest place Murray Hall\, Perth\, Australia
URL:https://no2iri.com/event/the-time-has-come-perth-australia/
END:VEVENT
BEGIN:VEVENT
DTSTART;TZID=America/New_York:20221001T110000
DTEND;TZID=America/New_York:20221001T130000
DTSTAMP:20260420T143552
CREATED:20221007T053939Z
LAST-MODIFIED:20221007T053939Z
UID:186-1664622000-1664629200@no2iri.com
SUMMARY:The time has come (Orange County - USA)
DESCRIPTION:Freedom Rally for Iran\nLocation: Corner of Culvur & University Mason Park\, Orange County \, USA
URL:https://no2iri.com/event/the-time-has-come-orange-county-usa/
END:VEVENT
BEGIN:VEVENT
DTSTART;TZID=America/New_York:20221001T110000
DTEND;TZID=America/New_York:20221001T130000
DTSTAMP:20260420T143552
CREATED:20221007T053924Z
LAST-MODIFIED:20221007T053924Z
UID:180-1664622000-1664629200@no2iri.com
SUMMARY:The time has come (Napoli - Italy)
DESCRIPTION:Freedom Rally for Iran\nLocation: Galleria Principe di Napoli\, Piazza Museo\, Napoli\, Italy
URL:https://no2iri.com/event/the-time-has-come-napoli-italy/
END:VEVENT
BEGIN:VEVENT
DTSTART;TZID=America/New_York:20221001T110000
DTEND;TZID=America/New_York:20221001T130000
DTSTAMP:20260420T143552
CREATED:20221007T053628Z
LAST-MODIFIED:20221007T053628Z
UID:171-1664622000-1664629200@no2iri.com
SUMMARY:The time has come (Memphis TN - USA)
DESCRIPTION:Freedom Rally for Iran\nLocation: National Civil Rights Museum\, 450 Mulberry St.\, Memphis TN\, USA
URL:https://no2iri.com/event/the-time-has-come-memphis-tn-usa/
END:VEVENT
BEGIN:VEVENT
DTSTART;TZID=America/New_York:20221001T110000
DTEND;TZID=America/New_York:20221001T130000
DTSTAMP:20260420T143552
CREATED:20221007T053623Z
LAST-MODIFIED:20221007T053623Z
UID:164-1664622000-1664629200@no2iri.com
SUMMARY:The time has come (Louisville - USA)
DESCRIPTION:Freedom Rally for Iran\nLocation: Central Park\, 1340 S 4th St\, Louisville\, USA
URL:https://no2iri.com/event/the-time-has-come-louisville-usa/
END:VEVENT
BEGIN:VEVENT
DTSTART;TZID=America/New_York:20221001T110000
DTEND;TZID=America/New_York:20221001T130000
DTSTAMP:20260420T143552
CREATED:20221007T053616Z
LAST-MODIFIED:20221007T053616Z
UID:158-1664622000-1664629200@no2iri.com
SUMMARY:The time has come (Lethbridge - Canada)
DESCRIPTION:Freedom Rally for Iran\nLocation: Valley Rd and University Drive\, Lethbridge\, Canada
URL:https://no2iri.com/event/the-time-has-come-lethbridge-canada/
END:VEVENT
BEGIN:VEVENT
DTSTART;TZID=America/New_York:20221001T110000
DTEND;TZID=America/New_York:20221001T130000
DTSTAMP:20260420T143552
CREATED:20221007T053542Z
LAST-MODIFIED:20221007T053542Z
UID:151-1664622000-1664629200@no2iri.com
SUMMARY:The time has come (Karlsruhe - Germany)
DESCRIPTION:Freedom Rally for Iran\nLocation: Karlsruhe Marktplatz\, Platz der Grundrechte\, Karlsruhe\, Germany
URL:https://no2iri.com/event/the-time-has-come-karlsruhe-germany/
END:VEVENT
BEGIN:VEVENT
DTSTART;TZID=America/New_York:20221001T110000
DTEND;TZID=America/New_York:20221001T130000
DTSTAMP:20260420T143552
CREATED:20221007T053441Z
LAST-MODIFIED:20221007T053441Z
UID:129-1664622000-1664629200@no2iri.com
SUMMARY:The time has come (Dunedin - New Zealand)
DESCRIPTION:Freedom Rally for Iran\nLocation: Otago Museum Lawn\, Dunedin\, New Zealand
URL:https://no2iri.com/event/the-time-has-come-dunedin-new-zealand/
END:VEVENT
BEGIN:VEVENT
DTSTART;TZID=America/New_York:20221001T110000
DTEND;TZID=America/New_York:20221001T130000
DTSTAMP:20260420T143552
CREATED:20221007T053430Z
LAST-MODIFIED:20221007T053430Z
UID:123-1664622000-1664629200@no2iri.com
SUMMARY:The time has come (Corvallis - USA)
DESCRIPTION:Freedom Rally for Iran\nLocation: Benton County Courthouse Lawn\, Corvallis\, USA
URL:https://no2iri.com/event/the-time-has-come-corvallis-usa/
END:VEVENT
BEGIN:VEVENT
DTSTART;TZID=America/New_York:20221001T110000
DTEND;TZID=America/New_York:20221001T130000
DTSTAMP:20260420T143552
CREATED:20221007T053150Z
LAST-MODIFIED:20221007T053150Z
UID:119-1664622000-1664629200@no2iri.com
SUMMARY:The time has come (Columbus Oh - USA)
DESCRIPTION:Freedom Rally for Iran\nLocation: The Oval\, 181 Oval Dr S\, Columbus Oh\, USA
URL:https://no2iri.com/event/the-time-has-come-columbus-oh-usa/
END:VEVENT
BEGIN:VEVENT
DTSTART;TZID=America/New_York:20221001T110000
DTEND;TZID=America/New_York:20221001T130000
DTSTAMP:20260420T143552
CREATED:20221007T053130Z
LAST-MODIFIED:20221007T053130Z
UID:106-1664622000-1664629200@no2iri.com
SUMMARY:The time has come (Boston - USA)
DESCRIPTION:Freedom Rally for Iran\nLocation: Liberty Mall\, Boston Common\, Boston\, USA
URL:https://no2iri.com/event/the-time-has-come-boston-usa/
END:VEVENT
BEGIN:VEVENT
DTSTART;TZID=America/New_York:20221001T103000
DTEND;TZID=America/New_York:20221001T123000
DTSTAMP:20260420T143552
CREATED:20221007T053623Z
LAST-MODIFIED:20221007T053623Z
UID:163-1664620200-1664627400@no2iri.com
SUMMARY:The time has come (Los Angeles - USA)
DESCRIPTION:Freedom Rally for Iran\nLocation: Pershing Square\, 532 S. Olive St. DTLA\, Los Angeles\, USA
URL:https://no2iri.com/event/the-time-has-come-los-angeles-usa/
END:VEVENT
BEGIN:VEVENT
DTSTART;TZID=America/New_York:20221001T100000
DTEND;TZID=America/New_York:20221001T120000
DTSTAMP:20260420T143552
CREATED:20221007T054032Z
LAST-MODIFIED:20221007T054032Z
UID:204-1664618400-1664625600@no2iri.com
SUMMARY:The time has come (Rome - Italy)
DESCRIPTION:Freedom Rally for Iran\nLocation: from Piazza della Repubblica\, Rome\, Italy
URL:https://no2iri.com/event/the-time-has-come-rome-italy/
END:VEVENT
BEGIN:VEVENT
DTSTART;TZID=America/New_York:20221001T100000
DTEND;TZID=America/New_York:20221001T120000
DTSTAMP:20260420T143552
CREATED:20221007T053924Z
LAST-MODIFIED:20221007T053924Z
UID:179-1664618400-1664625600@no2iri.com
SUMMARY:The time has come (Nancy - France)
DESCRIPTION:Freedom Rally for Iran\nLocation: Place Stanislas\, Nancy\, France
URL:https://no2iri.com/event/the-time-has-come-nancy-france/
END:VEVENT
BEGIN:VEVENT
DTSTART;TZID=America/New_York:20221001T100000
DTEND;TZID=America/New_York:20221001T120000
DTSTAMP:20260420T143552
CREATED:20221007T053124Z
LAST-MODIFIED:20221007T053124Z
UID:103-1664618400-1664625600@no2iri.com
SUMMARY:The time has come (Bologna - Italy)
DESCRIPTION:Freedom Rally for Iran\nLocation: Piazza Nettuno\, Bologna\, Italy
URL:https://no2iri.com/event/the-time-has-come-bologna-italy/
END:VEVENT
BEGIN:VEVENT
DTSTART;TZID=America/New_York:20221001T100000
DTEND;TZID=America/New_York:20221001T120000
DTSTAMP:20260420T143552
CREATED:20221007T053048Z
LAST-MODIFIED:20221007T053048Z
UID:91-1664618400-1664625600@no2iri.com
SUMMARY:The time has come (Albuquerque - USA)
DESCRIPTION:Freedom Rally for Iran\nLocation: Old Town Plaza\, Albuquerque\, USA
URL:https://no2iri.com/event/the-time-has-come-albuquerque-usa/
END:VEVENT
BEGIN:VEVENT
DTSTART;TZID=America/New_York:20221001T100000
DTEND;TZID=America/New_York:20221001T120000
DTSTAMP:20260420T143552
CREATED:20221007T053047Z
LAST-MODIFIED:20221007T053047Z
UID:90-1664618400-1664625600@no2iri.com
SUMMARY:The time has come (Adria - Italy)
DESCRIPTION:Freedom Rally for Iran\nLocation: Bar cavour\, Adria\, Italy
URL:https://no2iri.com/event/the-time-has-come-adria-italy/
END:VEVENT
BEGIN:VEVENT
DTSTART;TZID=America/New_York:20260420T143552
DTEND;TZID=America/New_York:20221008T093000
DTSTAMP:20260420T143552
CREATED:20221008T050630Z
LAST-MODIFIED:20221008T050630Z
UID:388-0-1665221400@no2iri.com
SUMMARY:Solidarity Protest for Iran (HAWAII\, USA)
DESCRIPTION:FALSE
URL:https://no2iri.com/event/solidarity-protest-for-iran-hawaii-usa-2/
END:VEVENT
BEGIN:VEVENT
DTSTART;TZID=America/New_York:20260420T143552
DTEND;TZID=America/New_York:20221008T140000
DTSTAMP:20260420T143552
CREATED:20221008T042055Z
LAST-MODIFIED:20221008T050646Z
UID:360-0-1665237600@no2iri.com
SUMMARY:Solidarity Protest for Iran (SEOUL. KOREA)
DESCRIPTION:FALSE
URL:https://no2iri.com/event/solidarity-protest-for-iran-seoul-korea/
END:VEVENT
BEGIN:VEVENT
DTSTART;TZID=America/New_York:20260420T143552
DTEND;TZID=America/New_York:20221008T130000
DTSTAMP:20260420T143552
CREATED:20221008T042055Z
LAST-MODIFIED:20221008T050646Z
UID:361-0-1665234000@no2iri.com
SUMMARY:Solidarity Protest for Iran (SAN DIEGO\, USA)
DESCRIPTION:FALSE
URL:https://no2iri.com/event/solidarity-protest-for-iran-san-diego-usa/
END:VEVENT
BEGIN:VEVENT
DTSTART;TZID=America/New_York:20260420T143552
DTEND;TZID=America/New_York:20221008T140000
DTSTAMP:20260420T143552
CREATED:20221008T042054Z
LAST-MODIFIED:20221008T050646Z
UID:359-0-1665237600@no2iri.com
SUMMARY:Solidarity Protest for Iran (LONDON\, UNITED KINGDOM)
DESCRIPTION:FALSE
URL:https://no2iri.com/event/solidarity-protest-for-iran-london-united-kingdom/
END:VEVENT
BEGIN:VEVENT
DTSTART;TZID=America/New_York:20260420T143552
DTEND;TZID=America/New_York:20221008T150000
DTSTAMP:20260420T143552
CREATED:20221008T042040Z
LAST-MODIFIED:20221008T050631Z
UID:355-0-1665241200@no2iri.com
SUMMARY:Solidarity Protest for Iran (MILAN\, ITALY)
DESCRIPTION:FALSE
URL:https://no2iri.com/event/solidarity-protest-for-iran-milan-italy/
END:VEVENT
BEGIN:VEVENT
DTSTART;TZID=America/New_York:20260420T143552
DTEND;TZID=America/New_York:20221008T160000
DTSTAMP:20260420T143552
CREATED:20221008T042040Z
LAST-MODIFIED:20221008T050631Z
UID:356-0-1665244800@no2iri.com
SUMMARY:Solidarity Protest for Iran (D†SSELDORF\, GERMANY)
DESCRIPTION:FALSE
URL:https://no2iri.com/event/solidarity-protest-for-iran-d%e2%80%a0sseldorf-germany/
END:VEVENT
BEGIN:VEVENT
DTSTART;TZID=America/New_York:20260420T143552
DTEND;TZID=America/New_York:20221008T160000
DTSTAMP:20260420T143552
CREATED:20221008T042040Z
LAST-MODIFIED:20221008T050631Z
UID:357-0-1665244800@no2iri.com
SUMMARY:Solidarity Protest for Iran (SEATTLE\, USA)
DESCRIPTION:FALSE
URL:https://no2iri.com/event/solidarity-protest-for-iran-seattle-usa/
END:VEVENT
BEGIN:VEVENT
DTSTART;TZID=America/New_York:20260420T143552
DTEND;TZID=America/New_York:20221008T183000
DTSTAMP:20260420T143552
CREATED:20221008T042040Z
LAST-MODIFIED:20221008T050631Z
UID:358-0-1665253800@no2iri.com
SUMMARY:Solidarity Protest for Iran (MUNICH\, GERMANY)
DESCRIPTION:FALSE
URL:https://no2iri.com/event/solidarity-protest-for-iran-munich-germany/
END:VEVENT
BEGIN:VEVENT
DTSTART;TZID=America/New_York:20260420T143552
DTEND;TZID=America/New_York:20221008T110000
DTSTAMP:20260420T143552
CREATED:20221008T042039Z
LAST-MODIFIED:20221008T050631Z
UID:354-0-1665226800@no2iri.com
SUMMARY:Solidarity Protest for Iran (NEBRASKA\, USA)
DESCRIPTION:FALSE
URL:https://no2iri.com/event/solidarity-protest-for-iran-nebraska-usa/
END:VEVENT
BEGIN:VEVENT
DTSTART;TZID=America/New_York:20260420T143552
DTEND;TZID=America/New_York:20221008T160000
DTSTAMP:20260420T143552
CREATED:20221008T042038Z
LAST-MODIFIED:20221008T050631Z
UID:349-0-1665244800@no2iri.com
SUMMARY:Solidarity Protest for Iran (K…LN\, GERMANY)
DESCRIPTION:FALSE
URL:https://no2iri.com/event/solidarity-protest-for-iran-kln-germany/
END:VEVENT
BEGIN:VEVENT
DTSTART;TZID=America/New_York:20260420T143552
DTEND;TZID=America/New_York:20221008T110000
DTSTAMP:20260420T143552
CREATED:20221008T042038Z
LAST-MODIFIED:20221008T050631Z
UID:350-0-1665226800@no2iri.com
SUMMARY:Solidarity Protest for Iran (ADELAIDE\, AUSTRALIA)
DESCRIPTION:FALSE
URL:https://no2iri.com/event/solidarity-protest-for-iran-adelaide-australia/
END:VEVENT
BEGIN:VEVENT
DTSTART;TZID=America/New_York:20260420T143552
DTEND;TZID=America/New_York:20221008T160000
DTSTAMP:20260420T143552
CREATED:20221008T042038Z
LAST-MODIFIED:20221008T050631Z
UID:351-0-1665244800@no2iri.com
SUMMARY:Solidarity Protest for Iran (BUDAPEST\, HUNGARY)
DESCRIPTION:FALSE
URL:https://no2iri.com/event/solidarity-protest-for-iran-budapest-hungary/
END:VEVENT
BEGIN:VEVENT
DTSTART;TZID=America/New_York:20260420T143552
DTEND;TZID=America/New_York:20221008T100000
DTSTAMP:20260420T143552
CREATED:20221008T042038Z
LAST-MODIFIED:20221008T050631Z
UID:352-0-1665223200@no2iri.com
SUMMARY:Solidarity Protest for Iran (LOS ANGELES\, USA)
DESCRIPTION:FALSE
URL:https://no2iri.com/event/solidarity-protest-for-iran-los-angeles-usa/
END:VEVENT
END:VCALENDAR