BEGIN:VCALENDAR
VERSION:2.0
PRODID:-//No to Islamic Republic of Iran - ECPv6.15.20//NONSGML v1.0//EN
CALSCALE:GREGORIAN
METHOD:PUBLISH
X-ORIGINAL-URL:https://no2iri.com
X-WR-CALDESC:Events for No to Islamic Republic of Iran
REFRESH-INTERVAL;VALUE=DURATION:PT1H
X-Robots-Tag:noindex
X-PUBLISHED-TTL:PT1H
BEGIN:VTIMEZONE
TZID:America/New_York
BEGIN:DAYLIGHT
TZOFFSETFROM:-0500
TZOFFSETTO:-0400
TZNAME:EDT
DTSTART:20210314T070000
END:DAYLIGHT
BEGIN:STANDARD
TZOFFSETFROM:-0400
TZOFFSETTO:-0500
TZNAME:EST
DTSTART:20211107T060000
END:STANDARD
BEGIN:DAYLIGHT
TZOFFSETFROM:-0500
TZOFFSETTO:-0400
TZNAME:EDT
DTSTART:20220313T070000
END:DAYLIGHT
BEGIN:STANDARD
TZOFFSETFROM:-0400
TZOFFSETTO:-0500
TZNAME:EST
DTSTART:20221106T060000
END:STANDARD
BEGIN:DAYLIGHT
TZOFFSETFROM:-0500
TZOFFSETTO:-0400
TZNAME:EDT
DTSTART:20230312T070000
END:DAYLIGHT
BEGIN:STANDARD
TZOFFSETFROM:-0400
TZOFFSETTO:-0500
TZNAME:EST
DTSTART:20231105T060000
END:STANDARD
END:VTIMEZONE
BEGIN:VEVENT
DTSTART;TZID=America/New_York:20221001T120000
DTEND;TZID=America/New_York:20221001T140000
DTSTAMP:20260420T113328
CREATED:20221007T054413Z
LAST-MODIFIED:20221007T054413Z
UID:246-1664625600-1664632800@no2iri.com
SUMMARY:The time has come (Wellington - New Zealand)
DESCRIPTION:Freedom Rally for Iran\nLocation: at the Bucket Fountain on Cuba Mall\, Wellington\, New Zealand
URL:https://no2iri.com/event/the-time-has-come-wellington-new-zealand/
END:VEVENT
BEGIN:VEVENT
DTSTART;TZID=America/New_York:20221001T120000
DTEND;TZID=America/New_York:20221001T140000
DTSTAMP:20260420T113328
CREATED:20221007T054348Z
LAST-MODIFIED:20221007T054348Z
UID:230-1664625600-1664632800@no2iri.com
SUMMARY:The time has come (Tampere - Finland)
DESCRIPTION:Freedom Rally for Iran\nLocation: Keskustori\, Tampere\, Finland
URL:https://no2iri.com/event/the-time-has-come-tampere-finland/
END:VEVENT
BEGIN:VEVENT
DTSTART;TZID=America/New_York:20221001T120000
DTEND;TZID=America/New_York:20221001T140000
DTSTAMP:20260420T113328
CREATED:20221007T054041Z
LAST-MODIFIED:20221007T054041Z
UID:212-1664625600-1664632800@no2iri.com
SUMMARY:The time has come (Seattle - USA)
DESCRIPTION:Freedom Rally for Iran\nLocation: Westlake Park\, Seattle\, USA
URL:https://no2iri.com/event/the-time-has-come-seattle-usa/
END:VEVENT
BEGIN:VEVENT
DTSTART;TZID=America/New_York:20221001T120000
DTEND;TZID=America/New_York:20221001T140000
DTSTAMP:20260420T113328
CREATED:20221007T054014Z
LAST-MODIFIED:20221007T054014Z
UID:199-1664625600-1664632800@no2iri.com
SUMMARY:The time has come (Quito - Ecuador)
DESCRIPTION:Freedom Rally for Iran\nLocation: Quicentro Norte\, Quito\, Ecuador
URL:https://no2iri.com/event/the-time-has-come-quito-ecuador/
END:VEVENT
BEGIN:VEVENT
DTSTART;TZID=America/New_York:20221001T120000
DTEND;TZID=America/New_York:20221001T140000
DTSTAMP:20260420T113328
CREATED:20221007T053938Z
LAST-MODIFIED:20221007T053938Z
UID:183-1664625600-1664632800@no2iri.com
SUMMARY:The time has come (New York - USA)
DESCRIPTION:Freedom Rally for Iran\nLocation: 14th St.\, Fifth Avenue\, New York\, USA
URL:https://no2iri.com/event/the-time-has-come-new-york-usa/
END:VEVENT
BEGIN:VEVENT
DTSTART;TZID=America/New_York:20221001T120000
DTEND;TZID=America/New_York:20221001T140000
DTSTAMP:20260420T113328
CREATED:20221007T053938Z
LAST-MODIFIED:20221007T053938Z
UID:184-1664625600-1664632800@no2iri.com
SUMMARY:The time has come (Newcastle - UK)
DESCRIPTION:Freedom Rally for Iran\nLocation: Haymarket\, Newcastle upon Tyne\, UK
URL:https://no2iri.com/event/the-time-has-come-newcastle-uk/
END:VEVENT
BEGIN:VEVENT
DTSTART;TZID=America/New_York:20221001T120000
DTEND;TZID=America/New_York:20221001T140000
DTSTAMP:20260420T113328
CREATED:20221007T053924Z
LAST-MODIFIED:20221007T053924Z
UID:178-1664625600-1664632800@no2iri.com
SUMMARY:The time has come (MŸnster - Germany)
DESCRIPTION:Freedom Rally for Iran\nLocation: Stubengasse\, MŸnster\, Germany
URL:https://no2iri.com/event/the-time-has-come-mynster-germany/
END:VEVENT
BEGIN:VEVENT
DTSTART;TZID=America/New_York:20221001T120000
DTEND;TZID=America/New_York:20221001T140000
DTSTAMP:20260420T113328
CREATED:20221007T053441Z
LAST-MODIFIED:20221007T053441Z
UID:128-1664625600-1664632800@no2iri.com
SUMMARY:The time has come (Dublin - Ireland)
DESCRIPTION:Freedom Rally for Iran\nLocation: O’Connell (The SPIRE)\, Dublin\, Ireland
URL:https://no2iri.com/event/the-time-has-come-dublin-ireland/
END:VEVENT
BEGIN:VEVENT
DTSTART;TZID=America/New_York:20221001T120000
DTEND;TZID=America/New_York:20221001T140000
DTSTAMP:20260420T113328
CREATED:20221007T053441Z
LAST-MODIFIED:20221007T053441Z
UID:131-1664625600-1664632800@no2iri.com
SUMMARY:The time has come (Edinburgh - Scottland)
DESCRIPTION:Freedom Rally for Iran\nLocation: Scottish Parliament Building\, Edinburgh \, Scottland
URL:https://no2iri.com/event/the-time-has-come-edinburgh-scottland/
END:VEVENT
BEGIN:VEVENT
DTSTART;TZID=America/New_York:20221001T120000
DTEND;TZID=America/New_York:20221001T140000
DTSTAMP:20260420T113328
CREATED:20221007T053134Z
LAST-MODIFIED:20221007T053134Z
UID:114-1664625600-1664632800@no2iri.com
SUMMARY:The time has come (Canberra - Australia)
DESCRIPTION:Freedom Rally for Iran\nLocation: Canberra Times Fountain\, Canberra\, Australia
URL:https://no2iri.com/event/the-time-has-come-canberra-australia/
END:VEVENT
BEGIN:VEVENT
DTSTART;TZID=America/New_York:20221001T113000
DTEND;TZID=America/New_York:20221001T133000
DTSTAMP:20260420T113328
CREATED:20221007T053956Z
LAST-MODIFIED:20221007T053956Z
UID:192-1664623800-1664631000@no2iri.com
SUMMARY:The time has come (Pittsburgh - USA)
DESCRIPTION:Freedom Rally for Iran\nLocation: City-County Building\, 414 Grant St\, Pittsburgh\, USA
URL:https://no2iri.com/event/the-time-has-come-pittsburgh-usa/
END:VEVENT
BEGIN:VEVENT
DTSTART;TZID=America/New_York:20221001T113000
DTEND;TZID=America/New_York:20221001T133000
DTSTAMP:20260420T113328
CREATED:20221007T053559Z
LAST-MODIFIED:20221007T053559Z
UID:156-1664623800-1664631000@no2iri.com
SUMMARY:The time has come (Kuopio - Finland)
DESCRIPTION:Freedom Rally for Iran\nLocation: Market Square\, Kuopio\, Finland
URL:https://no2iri.com/event/the-time-has-come-kuopio-finland/
END:VEVENT
BEGIN:VEVENT
DTSTART;TZID=America/New_York:20221001T113000
DTEND;TZID=America/New_York:20221001T133000
DTSTAMP:20260420T113328
CREATED:20221007T053133Z
LAST-MODIFIED:20221007T053133Z
UID:112-1664623800-1664631000@no2iri.com
SUMMARY:The time has come (Budapest - Hungary)
DESCRIPTION:Freedom Rally for Iran\nLocation: V. kerŸlet\, F_v‡m tŽr\, Budapest\, Hungary
URL:https://no2iri.com/event/the-time-has-come-budapest-hungary/
END:VEVENT
BEGIN:VEVENT
DTSTART;TZID=America/New_York:20221001T113000
DTEND;TZID=America/New_York:20221001T133000
DTSTAMP:20260420T113328
CREATED:20221007T053046Z
LAST-MODIFIED:20221007T053046Z
UID:87-1664623800-1664631000@no2iri.com
SUMMARY:The time has come (Aachen - Germany)
DESCRIPTION:Freedom Rally for Iran\nLocation: auf dem Markt\, Aachen\, Germany
URL:https://no2iri.com/event/the-time-has-come-aachen-germany/
END:VEVENT
BEGIN:VEVENT
DTSTART;TZID=America/New_York:20221001T110000
DTEND;TZID=America/New_York:20221001T130000
DTSTAMP:20260420T113328
CREATED:20221007T054355Z
LAST-MODIFIED:20221007T054355Z
UID:234-1664622000-1664629200@no2iri.com
SUMMARY:The time has come (Tokyo - Japan)
DESCRIPTION:Freedom Rally for Iran\nLocation: Hachiko Memorial Statue\, Shibuya Station\, Tokyo\, Japan
URL:https://no2iri.com/event/the-time-has-come-tokyo-japan/
END:VEVENT
BEGIN:VEVENT
DTSTART;TZID=America/New_York:20221001T110000
DTEND;TZID=America/New_York:20221001T130000
DTSTAMP:20260420T113328
CREATED:20221007T054349Z
LAST-MODIFIED:20221007T054349Z
UID:231-1664622000-1664629200@no2iri.com
SUMMARY:The time has come (Tbilisi - Georgia)
DESCRIPTION:Freedom Rally for Iran\nLocation: Isalmic Republic Embassy\, Tbilisi\, Georgia
URL:https://no2iri.com/event/the-time-has-come-tbilisi-georgia/
END:VEVENT
BEGIN:VEVENT
DTSTART;TZID=America/New_York:20221001T110000
DTEND;TZID=America/New_York:20221001T130000
DTSTAMP:20260420T113328
CREATED:20221007T054052Z
LAST-MODIFIED:20221007T054052Z
UID:218-1664622000-1664629200@no2iri.com
SUMMARY:The time has come (St. Louis MO - USA)
DESCRIPTION:Freedom Rally for Iran\nLocation: Tower Grove Park\, Corner of Grand & Arsenal\, St. Louis MO\, USA
URL:https://no2iri.com/event/the-time-has-come-st-louis-mo-usa/
END:VEVENT
BEGIN:VEVENT
DTSTART;TZID=America/New_York:20221001T110000
DTEND;TZID=America/New_York:20221001T130000
DTSTAMP:20260420T113328
CREATED:20221007T054051Z
LAST-MODIFIED:20221007T054051Z
UID:216-1664622000-1664629200@no2iri.com
SUMMARY:The time has come (Spokane\, WA - USA)
DESCRIPTION:Freedom Rally for Iran\nLocation: Riverfront Park\, Spokane\, WA\, USA
URL:https://no2iri.com/event/the-time-has-come-spokane-wa-usa/
END:VEVENT
BEGIN:VEVENT
DTSTART;TZID=America/New_York:20221001T110000
DTEND;TZID=America/New_York:20221001T130000
DTSTAMP:20260420T113328
CREATED:20221007T054041Z
LAST-MODIFIED:20221007T054041Z
UID:211-1664622000-1664629200@no2iri.com
SUMMARY:The time has come (Saskatoon - Canada)
DESCRIPTION:Freedom Rally for Iran\nLocation: Kiwanis Memorial Park\, Saskatoon\, Canada
URL:https://no2iri.com/event/the-time-has-come-saskatoon-canada/
END:VEVENT
BEGIN:VEVENT
DTSTART;TZID=America/New_York:20221001T110000
DTEND;TZID=America/New_York:20221001T130000
DTSTAMP:20260420T113328
CREATED:20221007T054039Z
LAST-MODIFIED:20221007T054039Z
UID:209-1664622000-1664629200@no2iri.com
SUMMARY:The time has come (San Francisco - USA)
DESCRIPTION:Freedom Rally for Iran\nLocation: Union Square\, San Francisco \, USA
URL:https://no2iri.com/event/the-time-has-come-san-francisco-usa/
END:VEVENT
BEGIN:VEVENT
DTSTART;TZID=America/New_York:20221001T110000
DTEND;TZID=America/New_York:20221001T130000
DTSTAMP:20260420T113328
CREATED:20221007T053956Z
LAST-MODIFIED:20221007T053956Z
UID:190-1664622000-1664629200@no2iri.com
SUMMARY:The time has come (Perth - Australia)
DESCRIPTION:Freedom Rally for Iran\nLocation: forrest place Murray Hall\, Perth\, Australia
URL:https://no2iri.com/event/the-time-has-come-perth-australia/
END:VEVENT
BEGIN:VEVENT
DTSTART;TZID=America/New_York:20221001T110000
DTEND;TZID=America/New_York:20221001T130000
DTSTAMP:20260420T113328
CREATED:20221007T053939Z
LAST-MODIFIED:20221007T053939Z
UID:186-1664622000-1664629200@no2iri.com
SUMMARY:The time has come (Orange County - USA)
DESCRIPTION:Freedom Rally for Iran\nLocation: Corner of Culvur & University Mason Park\, Orange County \, USA
URL:https://no2iri.com/event/the-time-has-come-orange-county-usa/
END:VEVENT
BEGIN:VEVENT
DTSTART;TZID=America/New_York:20221001T110000
DTEND;TZID=America/New_York:20221001T130000
DTSTAMP:20260420T113328
CREATED:20221007T053924Z
LAST-MODIFIED:20221007T053924Z
UID:180-1664622000-1664629200@no2iri.com
SUMMARY:The time has come (Napoli - Italy)
DESCRIPTION:Freedom Rally for Iran\nLocation: Galleria Principe di Napoli\, Piazza Museo\, Napoli\, Italy
URL:https://no2iri.com/event/the-time-has-come-napoli-italy/
END:VEVENT
BEGIN:VEVENT
DTSTART;TZID=America/New_York:20221001T110000
DTEND;TZID=America/New_York:20221001T130000
DTSTAMP:20260420T113328
CREATED:20221007T053628Z
LAST-MODIFIED:20221007T053628Z
UID:171-1664622000-1664629200@no2iri.com
SUMMARY:The time has come (Memphis TN - USA)
DESCRIPTION:Freedom Rally for Iran\nLocation: National Civil Rights Museum\, 450 Mulberry St.\, Memphis TN\, USA
URL:https://no2iri.com/event/the-time-has-come-memphis-tn-usa/
END:VEVENT
BEGIN:VEVENT
DTSTART;TZID=America/New_York:20221001T110000
DTEND;TZID=America/New_York:20221001T130000
DTSTAMP:20260420T113328
CREATED:20221007T053623Z
LAST-MODIFIED:20221007T053623Z
UID:164-1664622000-1664629200@no2iri.com
SUMMARY:The time has come (Louisville - USA)
DESCRIPTION:Freedom Rally for Iran\nLocation: Central Park\, 1340 S 4th St\, Louisville\, USA
URL:https://no2iri.com/event/the-time-has-come-louisville-usa/
END:VEVENT
BEGIN:VEVENT
DTSTART;TZID=America/New_York:20221001T110000
DTEND;TZID=America/New_York:20221001T130000
DTSTAMP:20260420T113328
CREATED:20221007T053616Z
LAST-MODIFIED:20221007T053616Z
UID:158-1664622000-1664629200@no2iri.com
SUMMARY:The time has come (Lethbridge - Canada)
DESCRIPTION:Freedom Rally for Iran\nLocation: Valley Rd and University Drive\, Lethbridge\, Canada
URL:https://no2iri.com/event/the-time-has-come-lethbridge-canada/
END:VEVENT
BEGIN:VEVENT
DTSTART;TZID=America/New_York:20221001T110000
DTEND;TZID=America/New_York:20221001T130000
DTSTAMP:20260420T113328
CREATED:20221007T053542Z
LAST-MODIFIED:20221007T053542Z
UID:151-1664622000-1664629200@no2iri.com
SUMMARY:The time has come (Karlsruhe - Germany)
DESCRIPTION:Freedom Rally for Iran\nLocation: Karlsruhe Marktplatz\, Platz der Grundrechte\, Karlsruhe\, Germany
URL:https://no2iri.com/event/the-time-has-come-karlsruhe-germany/
END:VEVENT
BEGIN:VEVENT
DTSTART;TZID=America/New_York:20221001T110000
DTEND;TZID=America/New_York:20221001T130000
DTSTAMP:20260420T113328
CREATED:20221007T053441Z
LAST-MODIFIED:20221007T053441Z
UID:129-1664622000-1664629200@no2iri.com
SUMMARY:The time has come (Dunedin - New Zealand)
DESCRIPTION:Freedom Rally for Iran\nLocation: Otago Museum Lawn\, Dunedin\, New Zealand
URL:https://no2iri.com/event/the-time-has-come-dunedin-new-zealand/
END:VEVENT
BEGIN:VEVENT
DTSTART;TZID=America/New_York:20221001T110000
DTEND;TZID=America/New_York:20221001T130000
DTSTAMP:20260420T113328
CREATED:20221007T053430Z
LAST-MODIFIED:20221007T053430Z
UID:123-1664622000-1664629200@no2iri.com
SUMMARY:The time has come (Corvallis - USA)
DESCRIPTION:Freedom Rally for Iran\nLocation: Benton County Courthouse Lawn\, Corvallis\, USA
URL:https://no2iri.com/event/the-time-has-come-corvallis-usa/
END:VEVENT
BEGIN:VEVENT
DTSTART;TZID=America/New_York:20221001T110000
DTEND;TZID=America/New_York:20221001T130000
DTSTAMP:20260420T113328
CREATED:20221007T053150Z
LAST-MODIFIED:20221007T053150Z
UID:119-1664622000-1664629200@no2iri.com
SUMMARY:The time has come (Columbus Oh - USA)
DESCRIPTION:Freedom Rally for Iran\nLocation: The Oval\, 181 Oval Dr S\, Columbus Oh\, USA
URL:https://no2iri.com/event/the-time-has-come-columbus-oh-usa/
END:VEVENT
END:VCALENDAR