BEGIN:VCALENDAR
VERSION:2.0
PRODID:-//No to Islamic Republic of Iran - ECPv6.15.20//NONSGML v1.0//EN
CALSCALE:GREGORIAN
METHOD:PUBLISH
X-ORIGINAL-URL:https://no2iri.com
X-WR-CALDESC:Events for No to Islamic Republic of Iran
REFRESH-INTERVAL;VALUE=DURATION:PT1H
X-Robots-Tag:noindex
X-PUBLISHED-TTL:PT1H
BEGIN:VTIMEZONE
TZID:America/New_York
BEGIN:DAYLIGHT
TZOFFSETFROM:-0500
TZOFFSETTO:-0400
TZNAME:EDT
DTSTART:20210314T070000
END:DAYLIGHT
BEGIN:STANDARD
TZOFFSETFROM:-0400
TZOFFSETTO:-0500
TZNAME:EST
DTSTART:20211107T060000
END:STANDARD
BEGIN:DAYLIGHT
TZOFFSETFROM:-0500
TZOFFSETTO:-0400
TZNAME:EDT
DTSTART:20220313T070000
END:DAYLIGHT
BEGIN:STANDARD
TZOFFSETFROM:-0400
TZOFFSETTO:-0500
TZNAME:EST
DTSTART:20221106T060000
END:STANDARD
BEGIN:DAYLIGHT
TZOFFSETFROM:-0500
TZOFFSETTO:-0400
TZNAME:EDT
DTSTART:20230312T070000
END:DAYLIGHT
BEGIN:STANDARD
TZOFFSETFROM:-0400
TZOFFSETTO:-0500
TZNAME:EST
DTSTART:20231105T060000
END:STANDARD
END:VTIMEZONE
BEGIN:VEVENT
DTSTART;TZID=America/New_York:20221001T140000
DTEND;TZID=America/New_York:20221001T160000
DTSTAMP:20260420T050218
CREATED:20221007T053617Z
LAST-MODIFIED:20221007T053617Z
UID:161-1664632800-1664640000@no2iri.com
SUMMARY:The time has come (London - UK)
DESCRIPTION:Freedom Rally for Iran\nLocation: Trafalgar Square\, London\, UK
URL:https://no2iri.com/event/the-time-has-come-london-uk/
END:VEVENT
BEGIN:VEVENT
DTSTART;TZID=America/New_York:20221001T140000
DTEND;TZID=America/New_York:20221001T160000
DTSTAMP:20260420T050218
CREATED:20221007T053617Z
LAST-MODIFIED:20221007T053617Z
UID:162-1664632800-1664640000@no2iri.com
SUMMARY:The time has come (London ON - Canada)
DESCRIPTION:Freedom Rally for Iran\nLocation: Victoria Park\, London ON\, Canada
URL:https://no2iri.com/event/the-time-has-come-london-on-canada/
END:VEVENT
BEGIN:VEVENT
DTSTART;TZID=America/New_York:20221001T140000
DTEND;TZID=America/New_York:20221001T160000
DTSTAMP:20260420T050218
CREATED:20221007T053542Z
LAST-MODIFIED:20221007T053542Z
UID:152-1664632800-1664640000@no2iri.com
SUMMARY:The time has come (Kelowna - Canada)
DESCRIPTION:Freedom Rally for Iran\nLocation: Downtown Mill St. & Bernard Ave. (Ogopogo Statue)\, Kelowna\, Canada
URL:https://no2iri.com/event/the-time-has-come-kelowna-canada/
END:VEVENT
BEGIN:VEVENT
DTSTART;TZID=America/New_York:20221001T140000
DTEND;TZID=America/New_York:20221001T160000
DTSTAMP:20260420T050218
CREATED:20221007T053526Z
LAST-MODIFIED:20221007T053526Z
UID:143-1664632800-1664640000@no2iri.com
SUMMARY:The time has come (Hamburg - Germany)
DESCRIPTION:Freedom Rally for Iran\nLocation: Hamburg\, Germany
URL:https://no2iri.com/event/the-time-has-come-hamburg-germany/
END:VEVENT
BEGIN:VEVENT
DTSTART;TZID=America/New_York:20221001T140000
DTEND;TZID=America/New_York:20221001T160000
DTSTAMP:20260420T050218
CREATED:20221007T053526Z
LAST-MODIFIED:20221007T053526Z
UID:145-1664632800-1664640000@no2iri.com
SUMMARY:The time has come (Helsinki - Finland)
DESCRIPTION:Freedom Rally for Iran\nLocation: Kamppi Shopping Centre \, Helsinki \, Finland
URL:https://no2iri.com/event/the-time-has-come-helsinki-finland/
END:VEVENT
BEGIN:VEVENT
DTSTART;TZID=America/New_York:20221001T140000
DTEND;TZID=America/New_York:20221001T160000
DTSTAMP:20260420T050218
CREATED:20221007T053511Z
LAST-MODIFIED:20221007T053511Z
UID:139-1664632800-1664640000@no2iri.com
SUMMARY:The time has come (Gothenburg - Sweden)
DESCRIPTION:Freedom Rally for Iran\nLocation: Gustav Adolfs Torg\, Gothenburg\, Sweden
URL:https://no2iri.com/event/the-time-has-come-gothenburg-sweden/
END:VEVENT
BEGIN:VEVENT
DTSTART;TZID=America/New_York:20221001T140000
DTEND;TZID=America/New_York:20221001T160000
DTSTAMP:20260420T050218
CREATED:20221007T053511Z
LAST-MODIFIED:20221007T053511Z
UID:140-1664632800-1664640000@no2iri.com
SUMMARY:The time has come (Gšttingen - Germany)
DESCRIPTION:Freedom Rally for Iran\nLocation: Gšttingen City Centre\, GŠnseliesel\, Gšttingen\, Germany
URL:https://no2iri.com/event/the-time-has-come-gsttingen-germany/
END:VEVENT
BEGIN:VEVENT
DTSTART;TZID=America/New_York:20221001T140000
DTEND;TZID=America/New_York:20221001T160000
DTSTAMP:20260420T050218
CREATED:20221007T053456Z
LAST-MODIFIED:20221007T053456Z
UID:133-1664632800-1664640000@no2iri.com
SUMMARY:The time has come (Eindhoven - Netherlands)
DESCRIPTION:Freedom Rally for Iran\nLocation: 18 Septemberplein\, Eindhoven\, Netherlands
URL:https://no2iri.com/event/the-time-has-come-eindhoven-netherlands/
END:VEVENT
BEGIN:VEVENT
DTSTART;TZID=America/New_York:20221001T140000
DTEND;TZID=America/New_York:20221001T160000
DTSTAMP:20260420T050218
CREATED:20221007T053456Z
LAST-MODIFIED:20221007T053456Z
UID:134-1664632800-1664640000@no2iri.com
SUMMARY:The time has come (Frankfurt - Germany)
DESCRIPTION:Freedom Rally for Iran\nLocation: Alte Oper\, Frankfurt\, Germany
URL:https://no2iri.com/event/the-time-has-come-frankfurt-germany/
END:VEVENT
BEGIN:VEVENT
DTSTART;TZID=America/New_York:20221001T140000
DTEND;TZID=America/New_York:20221001T160000
DTSTAMP:20260420T050218
CREATED:20221007T053430Z
LAST-MODIFIED:20221007T053430Z
UID:127-1664632800-1664640000@no2iri.com
SUMMARY:The time has come (Dijon - France)
DESCRIPTION:Freedom Rally for Iran\nLocation: place de la LibŽration\, Dijon\, France
URL:https://no2iri.com/event/the-time-has-come-dijon-france/
END:VEVENT
BEGIN:VEVENT
DTSTART;TZID=America/New_York:20221001T140000
DTEND;TZID=America/New_York:20221001T160000
DTSTAMP:20260420T050218
CREATED:20221007T053150Z
LAST-MODIFIED:20221007T053150Z
UID:118-1664632800-1664640000@no2iri.com
SUMMARY:The time has come (Cleveland OH - USA)
DESCRIPTION:Freedom Rally for Iran\nLocation: Public Square\, Cleveland OH\, USA
URL:https://no2iri.com/event/the-time-has-come-cleveland-oh-usa/
END:VEVENT
BEGIN:VEVENT
DTSTART;TZID=America/New_York:20221001T140000
DTEND;TZID=America/New_York:20221001T160000
DTSTAMP:20260420T050218
CREATED:20221007T053134Z
LAST-MODIFIED:20221007T053134Z
UID:113-1664632800-1664640000@no2iri.com
SUMMARY:The time has come (Calgary - Canada)
DESCRIPTION:Freedom Rally for Iran\nLocation: 228 8 Ave SW\, T2P 2M5\, Calgary\, Canada
URL:https://no2iri.com/event/the-time-has-come-calgary-canada/
END:VEVENT
BEGIN:VEVENT
DTSTART;TZID=America/New_York:20221001T140000
DTEND;TZID=America/New_York:20221001T160000
DTSTAMP:20260420T050218
CREATED:20221007T053133Z
LAST-MODIFIED:20221007T053133Z
UID:111-1664632800-1664640000@no2iri.com
SUMMARY:The time has come (Bucharest - Romania)
DESCRIPTION:Freedom Rally for Iran\nLocation: Pia_a Victoriei \, Bucharest\, Romania
URL:https://no2iri.com/event/the-time-has-come-bucharest-romania/
END:VEVENT
BEGIN:VEVENT
DTSTART;TZID=America/New_York:20221001T140000
DTEND;TZID=America/New_York:20221001T160000
DTSTAMP:20260420T050218
CREATED:20221007T053131Z
LAST-MODIFIED:20221007T053131Z
UID:107-1664632800-1664640000@no2iri.com
SUMMARY:The time has come (Bratislava - Slovakia)
DESCRIPTION:Freedom Rally for Iran\nLocation: Slovak National Theatre\, Gorkeho 2\, Bratislava\, Slovakia
URL:https://no2iri.com/event/the-time-has-come-bratislava-slovakia/
END:VEVENT
BEGIN:VEVENT
DTSTART;TZID=America/New_York:20221001T140000
DTEND;TZID=America/New_York:20221001T160000
DTSTAMP:20260420T050218
CREATED:20221007T053124Z
LAST-MODIFIED:20221007T053124Z
UID:101-1664632800-1664640000@no2iri.com
SUMMARY:The time has come (Bochum - Germany)
DESCRIPTION:Freedom Rally for Iran\nLocation: Hauptbahnhof\, Kurt-Schumacher-Platz 13\, Bochum\, Germany
URL:https://no2iri.com/event/the-time-has-come-bochum-germany/
END:VEVENT
BEGIN:VEVENT
DTSTART;TZID=America/New_York:20221001T140000
DTEND;TZID=America/New_York:20221001T160000
DTSTAMP:20260420T050218
CREATED:20221007T053124Z
LAST-MODIFIED:20221007T053124Z
UID:102-1664632800-1664640000@no2iri.com
SUMMARY:The time has come (Boise ID - USA)
DESCRIPTION:Freedom Rally for Iran\nLocation: 700 W Jefferson St\, Boise ID\, USA
URL:https://no2iri.com/event/the-time-has-come-boise-id-usa/
END:VEVENT
BEGIN:VEVENT
DTSTART;TZID=America/New_York:20221001T140000
DTEND;TZID=America/New_York:20221001T160000
DTSTAMP:20260420T050218
CREATED:20221007T053124Z
LAST-MODIFIED:20221007T053124Z
UID:104-1664632800-1664640000@no2iri.com
SUMMARY:The time has come (Bolzano - Italy)
DESCRIPTION:Freedom Rally for Iran\nLocation: Piazza Mazzini\, Bolzano\, Italy
URL:https://no2iri.com/event/the-time-has-come-bolzano-italy/
END:VEVENT
BEGIN:VEVENT
DTSTART;TZID=America/New_York:20221001T140000
DTEND;TZID=America/New_York:20221001T160000
DTSTAMP:20260420T050218
CREATED:20221007T053124Z
LAST-MODIFIED:20221007T053124Z
UID:105-1664632800-1664640000@no2iri.com
SUMMARY:The time has come (Bordeaux - France)
DESCRIPTION:Freedom Rally for Iran\nLocation: Place de la ComŽdie\, Bordeaux\, France
URL:https://no2iri.com/event/the-time-has-come-bordeaux-france/
END:VEVENT
BEGIN:VEVENT
DTSTART;TZID=America/New_York:20221001T140000
DTEND;TZID=America/New_York:20221001T160000
DTSTAMP:20260420T050218
CREATED:20221007T053048Z
LAST-MODIFIED:20221007T053048Z
UID:95-1664632800-1664640000@no2iri.com
SUMMARY:The time has come (Atlanta - USA)
DESCRIPTION:Freedom Rally for Iran\nLocation: CNN HQ\, Centennial Park\, Atlanta\, USA
URL:https://no2iri.com/event/the-time-has-come-atlanta-usa/
END:VEVENT
BEGIN:VEVENT
DTSTART;TZID=America/New_York:20221001T140000
DTEND;TZID=America/New_York:20221001T160000
DTSTAMP:20260420T050218
CREATED:20221007T053046Z
LAST-MODIFIED:20221007T053046Z
UID:88-1664632800-1664640000@no2iri.com
SUMMARY:The time has come (Aarhus - Denmark)
DESCRIPTION:Freedom Rally for Iran\nLocation: RŒdhuspladsen 2\, 8000\, Aarhus\, Denmark
URL:https://no2iri.com/event/the-time-has-come-aarhus-denmark/
END:VEVENT
BEGIN:VEVENT
DTSTART;TZID=America/New_York:20221001T133000
DTEND;TZID=America/New_York:20221001T153000
DTSTAMP:20260420T050218
CREATED:20221007T054355Z
LAST-MODIFIED:20221007T054355Z
UID:235-1664631000-1664638200@no2iri.com
SUMMARY:The time has come (Toronto (Richmond Hill) - Canada)
DESCRIPTION:Freedom Rally for Iran\nLocation: Yonge St. from 16 to Major Mac Richmond Hill Central Library\, Toronto (Richmond Hill)\, Canada
URL:https://no2iri.com/event/the-time-has-come-toronto-richmond-hill-canada/
END:VEVENT
BEGIN:VEVENT
DTSTART;TZID=America/New_York:20221001T133000
DTEND;TZID=America/New_York:20221001T153000
DTSTAMP:20260420T050218
CREATED:20221007T054332Z
LAST-MODIFIED:20221007T054332Z
UID:225-1664631000-1664638200@no2iri.com
SUMMARY:The time has come (Sudbury - Canada)
DESCRIPTION:Freedom Rally for Iran\nLocation: Bell Park\, York Parking Lot\, Sudbury\, Canada
URL:https://no2iri.com/event/the-time-has-come-sudbury-canada/
END:VEVENT
BEGIN:VEVENT
DTSTART;TZID=America/New_York:20221001T130000
DTEND;TZID=America/New_York:20221001T150000
DTSTAMP:20260420T050218
CREATED:20221007T055127Z
LAST-MODIFIED:20221007T055127Z
UID:251-1664629200-1664636400@no2iri.com
SUMMARY:The time has come (Winnipeg - Canada)
DESCRIPTION:Freedom Rally for Iran\nLocation: Canadian Meuseum of Human Rights\, 85 Israel Asper Way\, MB R3C0L5\, Winnipeg\, Canada
URL:https://no2iri.com/event/the-time-has-come-winnipeg-canada/
END:VEVENT
BEGIN:VEVENT
DTSTART;TZID=America/New_York:20221001T130000
DTEND;TZID=America/New_York:20221001T150000
DTSTAMP:20260420T050218
CREATED:20221007T054052Z
LAST-MODIFIED:20221007T054052Z
UID:219-1664629200-1664636400@no2iri.com
SUMMARY:The time has come (Stavanger - Norway)
DESCRIPTION:Freedom Rally for Iran\nLocation: Byparken Stavanger\, Stavanger\, Norway
URL:https://no2iri.com/event/the-time-has-come-stavanger-norway/
END:VEVENT
BEGIN:VEVENT
DTSTART;TZID=America/New_York:20221001T130000
DTEND;TZID=America/New_York:20221001T150000
DTSTAMP:20260420T050218
CREATED:20221007T054051Z
LAST-MODIFIED:20221007T054051Z
UID:217-1664629200-1664636400@no2iri.com
SUMMARY:The time has come (St. John's - Canada)
DESCRIPTION:Freedom Rally for Iran\nLocation: Colonial Building\, St. John’s \, Canada
URL:https://no2iri.com/event/the-time-has-come-st-johns-canada/
END:VEVENT
BEGIN:VEVENT
DTSTART;TZID=America/New_York:20221001T130000
DTEND;TZID=America/New_York:20221001T150000
DTSTAMP:20260420T050218
CREATED:20221007T054031Z
LAST-MODIFIED:20221007T054031Z
UID:200-1664629200-1664636400@no2iri.com
SUMMARY:The time has come (Regensburg - Germany)
DESCRIPTION:Freedom Rally for Iran\nLocation: Domplatz\, Regensburg\, Germany
URL:https://no2iri.com/event/the-time-has-come-regensburg-germany/
END:VEVENT
BEGIN:VEVENT
DTSTART;TZID=America/New_York:20221001T130000
DTEND;TZID=America/New_York:20221001T150000
DTSTAMP:20260420T050218
CREATED:20221007T054031Z
LAST-MODIFIED:20221007T054031Z
UID:201-1664629200-1664636400@no2iri.com
SUMMARY:The time has come (Regina - Canada)
DESCRIPTION:Freedom Rally for Iran\nLocation: City Hall\, Regina\, SK\, Regina\, Canada
URL:https://no2iri.com/event/the-time-has-come-regina-canada/
END:VEVENT
BEGIN:VEVENT
DTSTART;TZID=America/New_York:20221001T130000
DTEND;TZID=America/New_York:20221001T150000
DTSTAMP:20260420T050218
CREATED:20221007T053956Z
LAST-MODIFIED:20221007T053956Z
UID:191-1664629200-1664636400@no2iri.com
SUMMARY:The time has come (Philadelphia - USA)
DESCRIPTION:Freedom Rally for Iran\nLocation: Philadelphia City Hall\, Philadelphia\, USA
URL:https://no2iri.com/event/the-time-has-come-philadelphia-usa/
END:VEVENT
BEGIN:VEVENT
DTSTART;TZID=America/New_York:20221001T130000
DTEND;TZID=America/New_York:20221001T150000
DTSTAMP:20260420T050218
CREATED:20221007T053939Z
LAST-MODIFIED:20221007T053939Z
UID:185-1664629200-1664636400@no2iri.com
SUMMARY:The time has come (NŸrnberg - Germany)
DESCRIPTION:Freedom Rally for Iran\nLocation: Lorenzkirche\, NŸrnberg\, Germany
URL:https://no2iri.com/event/the-time-has-come-nyrnberg-germany/
END:VEVENT
BEGIN:VEVENT
DTSTART;TZID=America/New_York:20221001T130000
DTEND;TZID=America/New_York:20221001T150000
DTSTAMP:20260420T050218
CREATED:20221007T053925Z
LAST-MODIFIED:20221007T053925Z
UID:182-1664629200-1664636400@no2iri.com
SUMMARY:The time has come (New Orleans - USA)
DESCRIPTION:Freedom Rally for Iran\nLocation: Decatur Street\, New Orleans \, USA
URL:https://no2iri.com/event/the-time-has-come-new-orleans-usa/
END:VEVENT
END:VCALENDAR