BEGIN:VCALENDAR
VERSION:2.0
PRODID:-//No to Islamic Republic of Iran - ECPv6.15.20//NONSGML v1.0//EN
CALSCALE:GREGORIAN
METHOD:PUBLISH
X-WR-CALNAME:No to Islamic Republic of Iran
X-ORIGINAL-URL:https://no2iri.com
X-WR-CALDESC:Events for No to Islamic Republic of Iran
REFRESH-INTERVAL;VALUE=DURATION:PT1H
X-Robots-Tag:noindex
X-PUBLISHED-TTL:PT1H
BEGIN:VTIMEZONE
TZID:America/New_York
BEGIN:DAYLIGHT
TZOFFSETFROM:-0500
TZOFFSETTO:-0400
TZNAME:EDT
DTSTART:20210314T070000
END:DAYLIGHT
BEGIN:STANDARD
TZOFFSETFROM:-0400
TZOFFSETTO:-0500
TZNAME:EST
DTSTART:20211107T060000
END:STANDARD
BEGIN:DAYLIGHT
TZOFFSETFROM:-0500
TZOFFSETTO:-0400
TZNAME:EDT
DTSTART:20220313T070000
END:DAYLIGHT
BEGIN:STANDARD
TZOFFSETFROM:-0400
TZOFFSETTO:-0500
TZNAME:EST
DTSTART:20221106T060000
END:STANDARD
BEGIN:DAYLIGHT
TZOFFSETFROM:-0500
TZOFFSETTO:-0400
TZNAME:EDT
DTSTART:20230312T070000
END:DAYLIGHT
BEGIN:STANDARD
TZOFFSETFROM:-0400
TZOFFSETTO:-0500
TZNAME:EST
DTSTART:20231105T060000
END:STANDARD
END:VTIMEZONE
BEGIN:VEVENT
DTSTART;TZID=America/New_York:20221001T150000
DTEND;TZID=America/New_York:20221001T170000
DTSTAMP:20260420T002513
CREATED:20221007T053616Z
LAST-MODIFIED:20221007T053616Z
UID:159-1664636400-1664643600@no2iri.com
SUMMARY:The time has come (Lisbon - Portugal)
DESCRIPTION:Freedom Rally for Iran\nLocation: Praa do rossio\, Lisbon\, Portugal
URL:https://no2iri.com/event/the-time-has-come-lisbon-portugal/
END:VEVENT
BEGIN:VEVENT
DTSTART;TZID=America/New_York:20221001T150000
DTEND;TZID=America/New_York:20221001T170000
DTSTAMP:20260420T002513
CREATED:20221007T053559Z
LAST-MODIFIED:20221007T053559Z
UID:157-1664636400-1664643600@no2iri.com
SUMMARY:The time has come (Las Vegas - USA)
DESCRIPTION:Freedom Rally for Iran\nLocation: In front of Mirage Hotel\, Las Vegas\, USA
URL:https://no2iri.com/event/the-time-has-come-las-vegas-usa/
END:VEVENT
BEGIN:VEVENT
DTSTART;TZID=America/New_York:20221001T150000
DTEND;TZID=America/New_York:20221001T170000
DTSTAMP:20260420T002513
CREATED:20221007T053541Z
LAST-MODIFIED:20221007T053541Z
UID:148-1664636400-1664643600@no2iri.com
SUMMARY:The time has come (Hull - UK)
DESCRIPTION:Freedom Rally for Iran\nLocation: Trinity Square\, Hull\, UK
URL:https://no2iri.com/event/the-time-has-come-hull-uk/
END:VEVENT
BEGIN:VEVENT
DTSTART;TZID=America/New_York:20221001T150000
DTEND;TZID=America/New_York:20221001T170000
DTSTAMP:20260420T002513
CREATED:20221007T053511Z
LAST-MODIFIED:20221007T053511Z
UID:138-1664636400-1664643600@no2iri.com
SUMMARY:The time has come (Gent - Belgium)
DESCRIPTION:Freedom Rally for Iran\nLocation: Sint-Baafsplein\, Gent\, Belgium
URL:https://no2iri.com/event/the-time-has-come-gent-belgium/
END:VEVENT
BEGIN:VEVENT
DTSTART;TZID=America/New_York:20221001T150000
DTEND;TZID=America/New_York:20221001T170000
DTSTAMP:20260420T002513
CREATED:20221007T053441Z
LAST-MODIFIED:20221007T053441Z
UID:132-1664636400-1664643600@no2iri.com
SUMMARY:The time has come (Edmonton - Canada)
DESCRIPTION:Freedom Rally for Iran\nLocation: Dr Wilbert McIntyre Park\, 8331 104 St NW\, Edmonton\, Canada
URL:https://no2iri.com/event/the-time-has-come-edmonton-canada/
END:VEVENT
BEGIN:VEVENT
DTSTART;TZID=America/New_York:20221001T150000
DTEND;TZID=America/New_York:20221001T170000
DTSTAMP:20260420T002513
CREATED:20221007T053430Z
LAST-MODIFIED:20221007T053430Z
UID:125-1664636400-1664643600@no2iri.com
SUMMARY:The time has come (Denver - USA)
DESCRIPTION:Freedom Rally for Iran\nLocation: 200 E Colfax Ave\, Denver\, USA
URL:https://no2iri.com/event/the-time-has-come-denver-usa/
END:VEVENT
BEGIN:VEVENT
DTSTART;TZID=America/New_York:20221001T150000
DTEND;TZID=America/New_York:20221001T170000
DTSTAMP:20260420T002513
CREATED:20221007T053150Z
LAST-MODIFIED:20221007T053150Z
UID:116-1664636400-1664643600@no2iri.com
SUMMARY:The time has come (Chicago IL - USA)
DESCRIPTION:Freedom Rally for Iran\nLocation: Michigan Ave & E Van Buren Street\, Chicago IL\, USA
URL:https://no2iri.com/event/the-time-has-come-chicago-il-usa/
END:VEVENT
BEGIN:VEVENT
DTSTART;TZID=America/New_York:20221001T150000
DTEND;TZID=America/New_York:20221001T170000
DTSTAMP:20260420T002513
CREATED:20221007T053050Z
LAST-MODIFIED:20221007T053050Z
UID:99-1664636400-1664643600@no2iri.com
SUMMARY:The time has come (Berlin - Germany)
DESCRIPTION:Freedom Rally for Iran\nLocation: Oranienplatz\, Berlin\, Germany
URL:https://no2iri.com/event/the-time-has-come-berlin-germany/
END:VEVENT
BEGIN:VEVENT
DTSTART;TZID=America/New_York:20221001T150000
DTEND;TZID=America/New_York:20221001T170000
DTSTAMP:20260420T002513
CREATED:20221007T053049Z
LAST-MODIFIED:20221007T053049Z
UID:96-1664636400-1664643600@no2iri.com
SUMMARY:The time has come (Aukland - New Zealand)
DESCRIPTION:Freedom Rally for Iran\nLocation: Aotea Square\, Aukland\, New Zealand
URL:https://no2iri.com/event/the-time-has-come-aukland-new-zealand/
END:VEVENT
BEGIN:VEVENT
DTSTART;TZID=America/New_York:20221001T150000
DTEND;TZID=America/New_York:20221001T170000
DTSTAMP:20260420T002513
CREATED:20221007T053048Z
LAST-MODIFIED:20221007T053048Z
UID:93-1664636400-1664643600@no2iri.com
SUMMARY:The time has come (Amsterdam - Netherlands)
DESCRIPTION:Freedom Rally for Iran\nLocation: Dam Square\, Amsterdam\, Netherlands
URL:https://no2iri.com/event/the-time-has-come-amsterdam-netherlands/
END:VEVENT
BEGIN:VEVENT
DTSTART;TZID=America/New_York:20221001T143000
DTEND;TZID=America/New_York:20221001T163000
DTSTAMP:20260420T002513
CREATED:20221007T054403Z
LAST-MODIFIED:20221007T054403Z
UID:238-1664634600-1664641800@no2iri.com
SUMMARY:The time has come (Ulm - Germany)
DESCRIPTION:Freedom Rally for Iran\nLocation: MŸnsterplatz 2\, Ulm\, Germany
URL:https://no2iri.com/event/the-time-has-come-ulm-germany/
END:VEVENT
BEGIN:VEVENT
DTSTART;TZID=America/New_York:20221001T143000
DTEND;TZID=America/New_York:20221001T163000
DTSTAMP:20260420T002513
CREATED:20221007T053512Z
LAST-MODIFIED:20221007T053512Z
UID:141-1664634600-1664641800@no2iri.com
SUMMARY:The time has come (Grenoble - France)
DESCRIPTION:Freedom Rally for Iran\nLocation: Place FŽlix Poulat\, Grenoble\, France
URL:https://no2iri.com/event/the-time-has-come-grenoble-france/
END:VEVENT
BEGIN:VEVENT
DTSTART;TZID=America/New_York:20221001T140000
DTEND;TZID=America/New_York:20221001T160000
DTSTAMP:20260420T002513
CREATED:20221007T055127Z
LAST-MODIFIED:20221007T055127Z
UID:252-1664632800-1664640000@no2iri.com
SUMMARY:The time has come (Wroc_aw - Poland)
DESCRIPTION:Freedom Rally for Iran\nLocation: Rynek\, Pr_gierz\, Wroc_aw\, Poland
URL:https://no2iri.com/event/the-time-has-come-wroc_aw-poland/
END:VEVENT
BEGIN:VEVENT
DTSTART;TZID=America/New_York:20221001T140000
DTEND;TZID=America/New_York:20221001T160000
DTSTAMP:20260420T002513
CREATED:20221007T055127Z
LAST-MODIFIED:20221007T055127Z
UID:253-1664632800-1664640000@no2iri.com
SUMMARY:The time has come (ZŸrich - Switzerland)
DESCRIPTION:Freedom Rally for Iran\nLocation: RathhausbrŸcke 8001\, ZŸrich\, Switzerland
URL:https://no2iri.com/event/the-time-has-come-zyrich-switzerland/
END:VEVENT
BEGIN:VEVENT
DTSTART;TZID=America/New_York:20221001T140000
DTEND;TZID=America/New_York:20221001T160000
DTSTAMP:20260420T002513
CREATED:20221007T054413Z
LAST-MODIFIED:20221007T054413Z
UID:244-1664632800-1664640000@no2iri.com
SUMMARY:The time has come (Warsaw - Poland)
DESCRIPTION:Freedom Rally for Iran\nLocation: Jasna 14/16A\, Warsaw\, Poland
URL:https://no2iri.com/event/the-time-has-come-warsaw-poland/
END:VEVENT
BEGIN:VEVENT
DTSTART;TZID=America/New_York:20221001T140000
DTEND;TZID=America/New_York:20221001T160000
DTSTAMP:20260420T002513
CREATED:20221007T054403Z
LAST-MODIFIED:20221007T054403Z
UID:237-1664632800-1664640000@no2iri.com
SUMMARY:The time has come (Turku - Finland)
DESCRIPTION:Freedom Rally for Iran\nLocation: Tuomiokirkko\, Turku\, Finland
URL:https://no2iri.com/event/the-time-has-come-turku-finland/
END:VEVENT
BEGIN:VEVENT
DTSTART;TZID=America/New_York:20221001T140000
DTEND;TZID=America/New_York:20221001T160000
DTSTAMP:20260420T002513
CREATED:20221007T054403Z
LAST-MODIFIED:20221007T054403Z
UID:240-1664632800-1664640000@no2iri.com
SUMMARY:The time has come (Vancouver - Canada)
DESCRIPTION:Freedom Rally for Iran\nLocation: West Georgia Street\, Vancouver\, Canada
URL:https://no2iri.com/event/the-time-has-come-vancouver-canada/
END:VEVENT
BEGIN:VEVENT
DTSTART;TZID=America/New_York:20221001T140000
DTEND;TZID=America/New_York:20221001T160000
DTSTAMP:20260420T002513
CREATED:20221007T054355Z
LAST-MODIFIED:20221007T054355Z
UID:233-1664632800-1664640000@no2iri.com
SUMMARY:The time has come (Ter Aar - Netherlands)
DESCRIPTION:Freedom Rally for Iran\nLocation: Partycentrum Het Punt Kerkweg 18\, 2461 GD \, Ter Aar\, Netherlands
URL:https://no2iri.com/event/the-time-has-come-ter-aar-netherlands/
END:VEVENT
BEGIN:VEVENT
DTSTART;TZID=America/New_York:20221001T140000
DTEND;TZID=America/New_York:20221001T160000
DTSTAMP:20260420T002513
CREATED:20221007T054348Z
LAST-MODIFIED:20221007T054348Z
UID:227-1664632800-1664640000@no2iri.com
SUMMARY:The time has come (Tallahassee - USA)
DESCRIPTION:Freedom Rally for Iran\nLocation: Florida State Capitol\, 400 S Monroe St\, Tallahassee\, USA
URL:https://no2iri.com/event/the-time-has-come-tallahassee-usa/
END:VEVENT
BEGIN:VEVENT
DTSTART;TZID=America/New_York:20221001T140000
DTEND;TZID=America/New_York:20221001T160000
DTSTAMP:20260420T002513
CREATED:20221007T054041Z
LAST-MODIFIED:20221007T054041Z
UID:213-1664632800-1664640000@no2iri.com
SUMMARY:The time has come (Seoul - South Korea)
DESCRIPTION:Freedom Rally for Iran\nLocation: Islamic Republic of Iran Embassy in Seoul\, Seoul\, South Korea
URL:https://no2iri.com/event/the-time-has-come-seoul-south-korea/
END:VEVENT
BEGIN:VEVENT
DTSTART;TZID=America/New_York:20221001T140000
DTEND;TZID=America/New_York:20221001T160000
DTSTAMP:20260420T002513
CREATED:20221007T054041Z
LAST-MODIFIED:20221007T054041Z
UID:214-1664632800-1664640000@no2iri.com
SUMMARY:The time has come (Sherbrooke - Canada)
DESCRIPTION:Freedom Rally for Iran\nLocation: Rue King O & Boulevard Jacques-Cartier\, Sherbrooke\, Canada
URL:https://no2iri.com/event/the-time-has-come-sherbrooke-canada/
END:VEVENT
BEGIN:VEVENT
DTSTART;TZID=America/New_York:20221001T140000
DTEND;TZID=America/New_York:20221001T160000
DTSTAMP:20260420T002513
CREATED:20221007T054031Z
LAST-MODIFIED:20221007T054031Z
UID:202-1664632800-1664640000@no2iri.com
SUMMARY:The time has come (Reykjavik - Iceland)
DESCRIPTION:Freedom Rally for Iran\nLocation: Althingi Parliament House\, Reykjavik\, Iceland
URL:https://no2iri.com/event/the-time-has-come-reykjavik-iceland/
END:VEVENT
BEGIN:VEVENT
DTSTART;TZID=America/New_York:20221001T140000
DTEND;TZID=America/New_York:20221001T160000
DTSTAMP:20260420T002513
CREATED:20221007T054014Z
LAST-MODIFIED:20221007T054014Z
UID:198-1664632800-1664640000@no2iri.com
SUMMARY:The time has come (QuŽbec City - Canada)
DESCRIPTION:Freedom Rally for Iran\nLocation: Fairmont Le Ch‰teau Frontenac – UNESCO Monument\, QuŽbec City\, Canada
URL:https://no2iri.com/event/the-time-has-come-quzbec-city-canada/
END:VEVENT
BEGIN:VEVENT
DTSTART;TZID=America/New_York:20221001T140000
DTEND;TZID=America/New_York:20221001T160000
DTSTAMP:20260420T002513
CREATED:20221007T054013Z
LAST-MODIFIED:20221007T054013Z
UID:195-1664632800-1664640000@no2iri.com
SUMMARY:The time has come (Portland - USA)
DESCRIPTION:Freedom Rally for Iran\nLocation: Pioneer Courthouse Square\, Portland\, USA
URL:https://no2iri.com/event/the-time-has-come-portland-usa/
END:VEVENT
BEGIN:VEVENT
DTSTART;TZID=America/New_York:20221001T140000
DTEND;TZID=America/New_York:20221001T160000
DTSTAMP:20260420T002513
CREATED:20221007T053956Z
LAST-MODIFIED:20221007T053956Z
UID:189-1664632800-1664640000@no2iri.com
SUMMARY:The time has come (Ottawa - Canada)
DESCRIPTION:Freedom Rally for Iran\nLocation: National Gallery of Canada\, Ottawa\, Canada
URL:https://no2iri.com/event/the-time-has-come-ottawa-canada/
END:VEVENT
BEGIN:VEVENT
DTSTART;TZID=America/New_York:20221001T140000
DTEND;TZID=America/New_York:20221001T160000
DTSTAMP:20260420T002513
CREATED:20221007T053939Z
LAST-MODIFIED:20221007T053939Z
UID:187-1664632800-1664640000@no2iri.com
SUMMARY:The time has come (Oslo - Norway)
DESCRIPTION:Freedom Rally for Iran\nLocation: Eidvolles Plass (Stortinget)\, Oslo\, Norway
URL:https://no2iri.com/event/the-time-has-come-oslo-norway/
END:VEVENT
BEGIN:VEVENT
DTSTART;TZID=America/New_York:20221001T140000
DTEND;TZID=America/New_York:20221001T160000
DTSTAMP:20260420T002513
CREATED:20221007T053924Z
LAST-MODIFIED:20221007T053924Z
UID:181-1664632800-1664640000@no2iri.com
SUMMARY:The time has come (Nashville - USA)
DESCRIPTION:Freedom Rally for Iran\nLocation: FEDERAL BUILDING\, 801 BROADWAY\, Nashville\, USA
URL:https://no2iri.com/event/the-time-has-come-nashville-usa/
END:VEVENT
BEGIN:VEVENT
DTSTART;TZID=America/New_York:20221001T140000
DTEND;TZID=America/New_York:20221001T160000
DTSTAMP:20260420T002513
CREATED:20221007T053840Z
LAST-MODIFIED:20221007T053840Z
UID:176-1664632800-1664640000@no2iri.com
SUMMARY:The time has come (Montreal - Canada)
DESCRIPTION:Freedom Rally for Iran\nLocation: McGill Main entrance Sherbrooke St\, Montreal\, Canada
URL:https://no2iri.com/event/the-time-has-come-montreal-canada/
END:VEVENT
BEGIN:VEVENT
DTSTART;TZID=America/New_York:20221001T140000
DTEND;TZID=America/New_York:20221001T160000
DTSTAMP:20260420T002513
CREATED:20221007T053628Z
LAST-MODIFIED:20221007T053628Z
UID:169-1664632800-1664640000@no2iri.com
SUMMARY:The time has come (Manchester - UK)
DESCRIPTION:Freedom Rally for Iran\nLocation: Manchester Central Library\, Manchester\, UK
URL:https://no2iri.com/event/the-time-has-come-manchester-uk/
END:VEVENT
BEGIN:VEVENT
DTSTART;TZID=America/New_York:20221001T140000
DTEND;TZID=America/New_York:20221001T160000
DTSTAMP:20260420T002513
CREATED:20221007T053628Z
LAST-MODIFIED:20221007T053628Z
UID:170-1664632800-1664640000@no2iri.com
SUMMARY:The time has come (Melbourne - Australia)
DESCRIPTION:Freedom Rally for Iran\nLocation: Federation Square\, Melbourne\, Australia
URL:https://no2iri.com/event/the-time-has-come-melbourne-australia/
END:VEVENT
END:VCALENDAR