BEGIN:VCALENDAR
VERSION:2.0
PRODID:-//No to Islamic Republic of Iran - ECPv6.15.20//NONSGML v1.0//EN
CALSCALE:GREGORIAN
METHOD:PUBLISH
X-WR-CALNAME:No to Islamic Republic of Iran
X-ORIGINAL-URL:https://no2iri.com
X-WR-CALDESC:Events for No to Islamic Republic of Iran
REFRESH-INTERVAL;VALUE=DURATION:PT1H
X-Robots-Tag:noindex
X-PUBLISHED-TTL:PT1H
BEGIN:VTIMEZONE
TZID:America/New_York
BEGIN:DAYLIGHT
TZOFFSETFROM:-0500
TZOFFSETTO:-0400
TZNAME:EDT
DTSTART:20210314T070000
END:DAYLIGHT
BEGIN:STANDARD
TZOFFSETFROM:-0400
TZOFFSETTO:-0500
TZNAME:EST
DTSTART:20211107T060000
END:STANDARD
BEGIN:DAYLIGHT
TZOFFSETFROM:-0500
TZOFFSETTO:-0400
TZNAME:EDT
DTSTART:20220313T070000
END:DAYLIGHT
BEGIN:STANDARD
TZOFFSETFROM:-0400
TZOFFSETTO:-0500
TZNAME:EST
DTSTART:20221106T060000
END:STANDARD
BEGIN:DAYLIGHT
TZOFFSETFROM:-0500
TZOFFSETTO:-0400
TZNAME:EDT
DTSTART:20230312T070000
END:DAYLIGHT
BEGIN:STANDARD
TZOFFSETFROM:-0400
TZOFFSETTO:-0500
TZNAME:EST
DTSTART:20231105T060000
END:STANDARD
BEGIN:DAYLIGHT
TZOFFSETFROM:-0500
TZOFFSETTO:-0400
TZNAME:EDT
DTSTART:20240310T070000
END:DAYLIGHT
BEGIN:STANDARD
TZOFFSETFROM:-0400
TZOFFSETTO:-0500
TZNAME:EST
DTSTART:20241103T060000
END:STANDARD
END:VTIMEZONE
BEGIN:VTIMEZONE
TZID:America/Los_Angeles
BEGIN:DAYLIGHT
TZOFFSETFROM:-0800
TZOFFSETTO:-0700
TZNAME:PDT
DTSTART:20210314T100000
END:DAYLIGHT
BEGIN:STANDARD
TZOFFSETFROM:-0700
TZOFFSETTO:-0800
TZNAME:PST
DTSTART:20211107T090000
END:STANDARD
BEGIN:DAYLIGHT
TZOFFSETFROM:-0800
TZOFFSETTO:-0700
TZNAME:PDT
DTSTART:20220313T100000
END:DAYLIGHT
BEGIN:STANDARD
TZOFFSETFROM:-0700
TZOFFSETTO:-0800
TZNAME:PST
DTSTART:20221106T090000
END:STANDARD
BEGIN:DAYLIGHT
TZOFFSETFROM:-0800
TZOFFSETTO:-0700
TZNAME:PDT
DTSTART:20230312T100000
END:DAYLIGHT
BEGIN:STANDARD
TZOFFSETFROM:-0700
TZOFFSETTO:-0800
TZNAME:PST
DTSTART:20231105T090000
END:STANDARD
END:VTIMEZONE
BEGIN:VTIMEZONE
TZID:Europe/Berlin
BEGIN:DAYLIGHT
TZOFFSETFROM:+0100
TZOFFSETTO:+0200
TZNAME:CEST
DTSTART:20210328T010000
END:DAYLIGHT
BEGIN:STANDARD
TZOFFSETFROM:+0200
TZOFFSETTO:+0100
TZNAME:CET
DTSTART:20211031T010000
END:STANDARD
BEGIN:DAYLIGHT
TZOFFSETFROM:+0100
TZOFFSETTO:+0200
TZNAME:CEST
DTSTART:20220327T010000
END:DAYLIGHT
BEGIN:STANDARD
TZOFFSETFROM:+0200
TZOFFSETTO:+0100
TZNAME:CET
DTSTART:20221030T010000
END:STANDARD
BEGIN:DAYLIGHT
TZOFFSETFROM:+0100
TZOFFSETTO:+0200
TZNAME:CEST
DTSTART:20230326T010000
END:DAYLIGHT
BEGIN:STANDARD
TZOFFSETFROM:+0200
TZOFFSETTO:+0100
TZNAME:CET
DTSTART:20231029T010000
END:STANDARD
END:VTIMEZONE
BEGIN:VTIMEZONE
TZID:America/Chicago
BEGIN:DAYLIGHT
TZOFFSETFROM:-0600
TZOFFSETTO:-0500
TZNAME:CDT
DTSTART:20210314T080000
END:DAYLIGHT
BEGIN:STANDARD
TZOFFSETFROM:-0500
TZOFFSETTO:-0600
TZNAME:CST
DTSTART:20211107T070000
END:STANDARD
BEGIN:DAYLIGHT
TZOFFSETFROM:-0600
TZOFFSETTO:-0500
TZNAME:CDT
DTSTART:20220313T080000
END:DAYLIGHT
BEGIN:STANDARD
TZOFFSETFROM:-0500
TZOFFSETTO:-0600
TZNAME:CST
DTSTART:20221106T070000
END:STANDARD
BEGIN:DAYLIGHT
TZOFFSETFROM:-0600
TZOFFSETTO:-0500
TZNAME:CDT
DTSTART:20230312T080000
END:DAYLIGHT
BEGIN:STANDARD
TZOFFSETFROM:-0500
TZOFFSETTO:-0600
TZNAME:CST
DTSTART:20231105T070000
END:STANDARD
END:VTIMEZONE
BEGIN:VEVENT
DTSTART;TZID=America/New_York:20230919T130000
DTEND;TZID=America/New_York:20230919T160000
DTSTAMP:20260419T091112
CREATED:20230827T020230Z
LAST-MODIFIED:20230827T024745Z
UID:733-1695128400-1695139200@no2iri.com
SUMMARY:Protesting Raisi's presence in the UNGA 2023
DESCRIPTION:Calling for the unity and solidarity of Iranians in the diaspora to hold protests against the Islamic Regime of Iran and its so-called President Ebrahim Raisi.\n\nAfter killing hundreds of young Iranian boys and girls\, we\, the people of Iran\, will not allow Raisi and Islamic Republic be our representative!\n\nPlease join us on Tuesday September 19th\, 2023 in NYC. Event time 1pm to 4pm US EST.\nAddress:\nDag Hammerskjold Plaza – Area E\nE 47th St\, New York\, NY 10017
URL:https://no2iri.com/event/unga2023/
LOCATION:Dag Hammerskjold Plaza\, 342 E 47th St\, New York\, NY\, 10017\, United States
ATTACH;FMTTYPE=image/jpeg:https://no2iri.com/wp-content/uploads/2023/08/No2Raisi_Poster_2023-V01_General1400.jpg
END:VEVENT
BEGIN:VEVENT
DTSTART;TZID=America/New_York:20221119T150000
DTEND;TZID=America/New_York:20221119T170000
DTSTAMP:20260419T091112
CREATED:20221119T032250Z
LAST-MODIFIED:20221119T032308Z
UID:712-1668870000-1668877200@no2iri.com
SUMMARY:THE TIME HAS COME - ORLANDO\, FL
DESCRIPTION:THE SILENT MASSACRE OF NOVEMBER 2019 \nRemembering Atrocities of The Islamic Republic \n19 NOV 2022 @ 3PM \nJOIN THE GLOBAL RALLY FOR IRAN’S REVOLUTION \nORLANDO\, USA – 400 S Orange Ave \nMore info: RALLY.PS752JUSTICE.COM
URL:https://no2iri.com/event/the-time-has-come-orlando-fl/
LOCATION:NY
END:VEVENT
BEGIN:VEVENT
DTSTART;TZID=America/New_York:20221119T150000
DTEND;TZID=America/New_York:20221119T170000
DTSTAMP:20260419T091112
CREATED:20221119T032110Z
LAST-MODIFIED:20221119T032132Z
UID:708-1668870000-1668877200@no2iri.com
SUMMARY:THE TIME HAS COME - TAMPA\, FL
DESCRIPTION:THE SILENT MASSACRE OF NOVEMBER 2019 \nRemembering Atrocities of The Islamic Republic \n19 NOV 2022 @ 3PM \nJOIN THE GLOBAL RALLY FOR IRAN’S REVOLUTION \nLocation: 600 N Ashley Dr\, Tampa\, FL \nBy Curtis Hixon Waterpark Park \nTime: 3:00 – 5:00 PM
URL:https://no2iri.com/event/the-time-has-come-tampa-fl/
LOCATION:NY
END:VEVENT
BEGIN:VEVENT
DTSTART;TZID=America/New_York:20221119T150000
DTEND;TZID=America/New_York:20221119T170000
DTSTAMP:20260419T091112
CREATED:20221119T031658Z
LAST-MODIFIED:20221119T031658Z
UID:702-1668870000-1668877200@no2iri.com
SUMMARY:THE TIME HAS COME - FORT LAUDERDALE\, USA
DESCRIPTION:THE SILENT MASSACRE OF NOVEMBER 2019 \nRemembering Atrocities of The Islamic Republic \n19 NOV 2022 @ 3PM \nJOIN THE GLOBAL RALLY FOR IRAN’S REVOLUTION \nFORT LAUDERDALE\, USA \nHuizegna Plaza \n32 E Las Olas Blvd \nMore info: RALLY.PS752JUSTICE.COM \n 
URL:https://no2iri.com/event/the-time-has-come-fort-lauderdale-usa/
LOCATION:NY
END:VEVENT
BEGIN:VEVENT
DTSTART;TZID=America/New_York:20221119T140000
DTEND;TZID=America/New_York:20221119T170000
DTSTAMP:20260419T091112
CREATED:20221119T031849Z
LAST-MODIFIED:20221119T031849Z
UID:705-1668866400-1668877200@no2iri.com
SUMMARY:THE TIME HAS COME - CLEVELAND\, OH
DESCRIPTION:THE SILENT MASSACRE OF NOVEMBER 2019 \nRemembering Atrocities of The Islamic Republic \n19 NOV 2022 @ 2PM \nJOIN THE GLOBAL RALLY FOR IRAN’S REVOLUTION \nCleveland\, OH \nIntersection of Euclid Ave & Martin Luther King Jr Dr \nMore info: RALLY.PS752JUSTICE.COM
URL:https://no2iri.com/event/the-time-has-come-cleveland-oh/
LOCATION:NY
END:VEVENT
BEGIN:VEVENT
DTSTART;TZID=America/New_York:20221119T130000
DTEND;TZID=America/New_York:20221119T160000
DTSTAMP:20260419T091112
CREATED:20221116T145003Z
LAST-MODIFIED:20221116T145003Z
UID:699-1668862800-1668873600@no2iri.com
SUMMARY:Rally in NYC in front of UN
DESCRIPTION:SATURDAY NOVEMBER 19 th @ 1:00P \nMARCH FROM BRYANT PARK 42nd St.
URL:https://no2iri.com/event/rally-in-nyc-in-front-of-un/
LOCATION:NY
END:VEVENT
BEGIN:VEVENT
DTSTART;TZID=America/Los_Angeles:20221119T120000
DTEND;TZID=America/Los_Angeles:20221119T150000
DTSTAMP:20260419T091112
CREATED:20221116T144802Z
LAST-MODIFIED:20221119T032344Z
UID:696-1668859200-1668870000@no2iri.com
SUMMARY:THE TIME HAS COME - LOS ANGELES\, CA
DESCRIPTION:THE SILENT MASSACRE OF NOVEMBER 2019 \nRemembering Atrocities of The Islamic Republic \n19 NOV 2022 @ 12:00PM-3:00PM \nTHE TIME HAS COME \nJOIN THE GLOBAL RALLY FOR IRAN’S REVOLUTION \nHOLLYWOOD\, LOS ANGELES \n7000 Hollywood Bivd. \nMore into. 818.970.3632 | 310.486.0821 \n \n  \n 
URL:https://no2iri.com/event/the-silent-massacre-of-november-2019/
LOCATION:NY
END:VEVENT
BEGIN:VEVENT
DTSTART;TZID=America/Los_Angeles:20221117T170000
DTEND;TZID=America/Los_Angeles:20221117T190000
DTSTAMP:20260419T091112
CREATED:20221115T145201Z
LAST-MODIFIED:20221115T145201Z
UID:692-1668704400-1668711600@no2iri.com
SUMMARY:Solidarity Vigil for Tehran Uprising
DESCRIPTION:Solidarity Vigil for Tehran Uprising \nThursday\, Nov 17 @ 5:30 pm – 7:00 pm \n400 Spectrum Center Drive\, Irvine (Corner of Gateway) \nBring Safe Candles
URL:https://no2iri.com/event/solidarity-vigil-for-tehran-uprising/
LOCATION:NY
END:VEVENT
BEGIN:VEVENT
DTSTART;TZID=America/New_York:20221109T180000
DTEND;TZID=America/New_York:20221109T193000
DTSTAMP:20260419T091112
CREATED:20221109T203626Z
LAST-MODIFIED:20221109T203915Z
UID:687-1668016800-1668022200@no2iri.com
SUMMARY:VIGIL FOR BALOOCHESTAN (ORANGE COUNTY\, CA)
DESCRIPTION:VIGIL FOR BALOOCHESTAN \nCORNER OF MICHELSON & CULVER \nIRVINE\, CA \nJoin Us Wednesday Nov. 9 @ 6 – 7:30 pm \nBring Safe Candles
URL:https://no2iri.com/event/vigil-for-baloochestan-orange-county-ca/
LOCATION:NY
END:VEVENT
BEGIN:VEVENT
DTSTART;TZID=America/Los_Angeles:20221106T140000
DTEND;TZID=America/Los_Angeles:20221106T170000
DTSTAMP:20260419T091112
CREATED:20221101T033943Z
LAST-MODIFIED:20221101T034036Z
UID:650-1667743200-1667754000@no2iri.com
SUMMARY:FREEDOM RALLY FOR IRAN (PALOS VERDES\, CA)
DESCRIPTION:SUNDAY NOVEMBER 6TH@ 2PM\nMALAGA COVE | PALOS VERDES \nWomen.Life.Freedom\n300 Palos Verdes Dr. West Palos Verdes\, CA 90274
URL:https://no2iri.com/event/freedom-rally-for-iran-palos-verdes-ca/
LOCATION:NY
END:VEVENT
BEGIN:VEVENT
DTSTART;TZID=America/Los_Angeles:20221105T130000
DTEND;TZID=America/Los_Angeles:20221105T160000
DTSTAMP:20260419T091112
CREATED:20221101T033213Z
LAST-MODIFIED:20221101T033213Z
UID:648-1667653200-1667664000@no2iri.com
SUMMARY:GATHER IN SOLIDARITY WITH THE HEROIC PEOPLE OF IRANI
DESCRIPTION:WOMAN\, LIFE\, FREEDOM\nGATHER IN SOLIDARITY WITH THE HEROIC PEOPLE OF IRANI\nBEVERLY HILLS CITY HALL\nSATURDAY NOVEMBER 5\, 2022 1PM-4PM \n400 N CRESCENT DR. BEVERLY HILLS\, 90210 \nSUGGESTED ATTIRE: ALL WHITE
URL:https://no2iri.com/event/gather-in-solidarity-with-the-heroic-people-of-irani/
LOCATION:NY
END:VEVENT
BEGIN:VEVENT
DTSTART;TZID=America/Los_Angeles:20221105T100000
DTEND;TZID=America/Los_Angeles:20221105T160000
DTSTAMP:20260419T091112
CREATED:20221101T144144Z
LAST-MODIFIED:20221101T144447Z
UID:655-1667642400-1667664000@no2iri.com
SUMMARY:ORANGE COUNTY ART AND PHOTOGRAPHY EXHIBITION
DESCRIPTION:ORANGE COUNTY ART AND PHOTOGRAPHY EXHIBITION\nSATURDAY NOVEMBER 5TH @ 10AM-4PM\n@GREAT PARK IRVINE\, AT HANGAR ENTRANCE\, PARKING LOT 2\nVISIT THE EXHIBITION AT “HOLIDAY FAIRE”
URL:https://no2iri.com/event/orange-county-art-and-photography-exhibition/
LOCATION:NY
END:VEVENT
BEGIN:VEVENT
DTSTART;TZID=America/Los_Angeles:20221030T110000
DTEND;TZID=America/Los_Angeles:20221030T133000
DTSTAMP:20260419T091112
CREATED:20221029T012327Z
LAST-MODIFIED:20221029T012501Z
UID:622-1667127600-1667136600@no2iri.com
SUMMARY:FREEDOM RALLY FOR IRAN (Orange County\, CA)
DESCRIPTION:Orange County\n800 W. Katella Ave\, Anaheim\nCorner of W Katella and S Harbor\nOne block from Disneyland Park \nSunday Oct. 30th 11am -1pm
URL:https://no2iri.com/event/freedom-rally-for-iran-orange-county-ca/
LOCATION:NY
END:VEVENT
BEGIN:VEVENT
DTSTART;TZID=America/Los_Angeles:20221029T180000
DTEND;TZID=America/Los_Angeles:20221029T210000
DTSTAMP:20260419T091112
CREATED:20221026T175612Z
LAST-MODIFIED:20221026T175703Z
UID:604-1667066400-1667077200@no2iri.com
SUMMARY:Cyrus the great day with Darioush Eghbali
DESCRIPTION:کوروش بزرگ\nبا داریوش، یاران هنرمند و فعالان اجتماعی\nشنبه ۲۹ اکتبر ساعت ۶ بعد از ظهر در پارک عمومی وردوگو در گلندیل\n\n\n\nLocation:\nVerdugo Park\, 1621 Canada Blvd\, Glendale\, CA 91208
URL:https://no2iri.com/event/cyrusday/
LOCATION:‏Verdugo Park\, 1621 Canada Blvd\, Glendale\, CA\, 91208\, United States
END:VEVENT
BEGIN:VEVENT
DTSTART;TZID=America/New_York:20221029T170000
DTEND;TZID=America/New_York:20221029T200000
DTSTAMP:20260419T091112
CREATED:20221028T040209Z
LAST-MODIFIED:20221028T040654Z
UID:611-1667062800-1667073600@no2iri.com
SUMMARY:HUMAN CHAIN FOR FREEDOM IN IRAN (Miami\, FL)
DESCRIPTION:TO FORM A HUMAN CHAIN FOR FREEDOM IN IRAN\nSATURDAY | OCTOBER 29 | 5 PM\nSOUTH POINTE PIER\nSATURDAY | OCTOBER 29 | 5 PM \nFor more info about our events and how you can help:\nletsuniteandconquer.com/protests \nSouth Pointe Park Pier\n1 Washington Ave\, Miami Beach\, FL 33139
URL:https://no2iri.com/event/human-chain-for-freedom-in-iran-miami-fl/
LOCATION:NY
END:VEVENT
BEGIN:VEVENT
DTSTART;TZID=America/New_York:20221029T150000
DTEND;TZID=America/New_York:20221029T170000
DTSTAMP:20260419T091112
CREATED:20221029T012709Z
LAST-MODIFIED:20221029T013139Z
UID:626-1667055600-1667062800@no2iri.com
SUMMARY:IRANIAN MARCH & HUMAN CHAIN (Washington\, DC)
DESCRIPTION:Washington DC\nIRANIAN MARCH & HUMAN CHAIN\nSalurday\, October 29™ | Farragut Suuare 3pM
URL:https://no2iri.com/event/iranian-march-human-chain-washington-dc/
LOCATION:Farragut Square (DC)\, 912 17th St NW\, Washington\, DC\, 20006\, United States
END:VEVENT
BEGIN:VEVENT
DTSTART;TZID=America/Los_Angeles:20221029T140000
DTEND;TZID=America/Los_Angeles:20221029T170000
DTSTAMP:20260419T091112
CREATED:20221029T015027Z
LAST-MODIFIED:20221029T015136Z
UID:637-1667052000-1667062800@no2iri.com
SUMMARY:THE TIME HAS COME (LAS VEGAS\, NV)
DESCRIPTION:FREEDOM RALLY FOR IRAN \nOCTOBER 29 – 2:30 PM\nLAS VEGAS – USA\nIN FRONT OF MIRAGE HOTEL
URL:https://no2iri.com/event/the-time-has-come-las-vegas-nv/
LOCATION:NY
END:VEVENT
BEGIN:VEVENT
DTSTART;TZID=America/New_York:20221029T140000
DTEND;TZID=America/New_York:20221029T170000
DTSTAMP:20260419T091112
CREATED:20221029T013417Z
LAST-MODIFIED:20221029T013928Z
UID:629-1667052000-1667062800@no2iri.com
SUMMARY:HUMAN CHAIN CHICAGO
DESCRIPTION:WOMAN\, LIFE\, FREEDOM \nHUMAN CHAIN CHICAGO \nBuckingham Fountain\, Saturday\, Oct 29th\, 2:00 pm
URL:https://no2iri.com/event/human-chain-chicago/
LOCATION:NY
END:VEVENT
BEGIN:VEVENT
DTSTART;TZID=America/New_York:20221029T140000
DTEND;TZID=America/New_York:20221029T170000
DTSTAMP:20260419T091112
CREATED:20221028T040458Z
LAST-MODIFIED:20221028T040458Z
UID:613-1667052000-1667062800@no2iri.com
SUMMARY:WOMEN LIFE FREEDOM RALLY (NASHVILLE\, TN)
DESCRIPTION:FREE IRAN\, WOMEN LIFE FREEDOM\nRALLY\nFEDERAL BUILDING\nNASHVILLE TENNESSEE\nSaturday October 29\, 2022\n2-5PM
URL:https://no2iri.com/event/women-life-freedom-rally-nashville-tn/
LOCATION:NY
END:VEVENT
BEGIN:VEVENT
DTSTART;TZID=America/Los_Angeles:20221029T110000
DTEND;TZID=America/Los_Angeles:20221029T130000
DTSTAMP:20260419T091112
CREATED:20221029T014059Z
LAST-MODIFIED:20221029T014248Z
UID:632-1667041200-1667048400@no2iri.com
SUMMARY:Human Chain (Sherman Oaks\, CA)
DESCRIPTION:October 29 Saturday 11:00 Am\nWOMAN\, LIFE\, FREEDOM \nSherman Oaks Caller
URL:https://no2iri.com/event/632/
LOCATION:NY
END:VEVENT
BEGIN:VEVENT
DTSTART;TZID=America/New_York:20221028T080000
DTEND;TZID=America/New_York:20221028T170000
DTSTAMP:20260419T091112
CREATED:20221029T020408Z
LAST-MODIFIED:20221029T020414Z
UID:643-1666944000-1666976400@no2iri.com
SUMMARY:Human Chain Rally - Indianapolis\, IN
DESCRIPTION:Human Chain Rally – Indianapolis\, IN \nOctober . 29th @ 10am-12noon\nMonument Circle\nIndianapolis\, Indiana
URL:https://no2iri.com/event/human-chain-rally-indianapolis-in/
LOCATION:NY
END:VEVENT
BEGIN:VEVENT
DTSTART;TZID=America/New_York:20221028T080000
DTEND;TZID=America/New_York:20221028T170000
DTSTAMP:20260419T091112
CREATED:20221029T015357Z
LAST-MODIFIED:20221029T015405Z
UID:640-1666944000-1666976400@no2iri.com
SUMMARY:Ukraine + Iran joint protest (NYC)
DESCRIPTION:Ukraine + Iran joint protest \nSaturday\, October 29 3:00pm -4:30pm\nFather Duffy Square (7th Ave & W47th St)
URL:https://no2iri.com/event/ukraine-iran-joint-protest-nyc/
LOCATION:NY
END:VEVENT
BEGIN:VEVENT
DTSTART;TZID=America/New_York:20221022T160000
DTEND;TZID=America/New_York:20221022T190000
DTSTAMP:20260419T091112
CREATED:20221014T023954Z
LAST-MODIFIED:20221014T024438Z
UID:470-1666454400-1666465200@no2iri.com
SUMMARY:The time has come – Freedom Rally for Iran (Miami\, FL)
DESCRIPTION:With live performance\, art works.\nTime: October 22nd at 4pm\nLocation: TORCH OF FRIENDSHIP\, Miami\, Florida \n 
URL:https://no2iri.com/event/the-time-has-come-freedom-rally-for-iran-miami-fl/
LOCATION:Torch of Friendship in Bayfront Park\, 301 Biscayne Blvd\, Miami\, FL\, 33132\, United States
END:VEVENT
BEGIN:VEVENT
DTSTART;TZID=America/New_York:20221022T160000
DTEND;TZID=America/New_York:20221022T180000
DTSTAMP:20260419T091112
CREATED:20221021T022621Z
LAST-MODIFIED:20221021T022846Z
UID:542-1666454400-1666461600@no2iri.com
SUMMARY:FREEDOM RALLY FOR IRAN (Tampa\, FL)
DESCRIPTION:TAMPA\nSaturday\, October 22 4:00 – 6:00 PM\nFRONT of FLORIDA MUSIEUMOF ART on \n600 N. ASHLEY DR.\nDOWNTOWN TAMPA\nWomen\nlife\nFreedom
URL:https://no2iri.com/event/freedom-rally-for-iran-tampa-fl/
LOCATION:NY
END:VEVENT
BEGIN:VEVENT
DTSTART;TZID=America/New_York:20221022T150000
DTEND;TZID=America/New_York:20221022T183000
DTSTAMP:20260419T091112
CREATED:20221010T203426Z
LAST-MODIFIED:20221021T025014Z
UID:399-1666450800-1666463400@no2iri.com
SUMMARY:National DC march for Iran (Washington\, DC)
DESCRIPTION:NATIONAL DE MARCH FOR IRAN \nOctober 22nd\nNational Mall: 3pm\nMarch to White House: 5pm \n \nMap of the location:
URL:https://no2iri.com/event/rally-in-washington-dc-stay-tuned/
LOCATION:National Mall\, VXQ7+2C\, Washington\, DC\, United States
END:VEVENT
BEGIN:VEVENT
DTSTART;TZID=Europe/Berlin:20221022T150000
DTEND;TZID=Europe/Berlin:20221022T180000
DTSTAMP:20260419T091112
CREATED:20221012T033416Z
LAST-MODIFIED:20221012T033416Z
UID:426-1666450800-1666461600@no2iri.com
SUMMARY:The time has come - Freedom Rally for Iran (Berlin\, Germany)
DESCRIPTION:FREEDOM RALLY FOR IRAN\nOCTOBER 22 @ 3 PM\nBERLIN\, GERMANY\nStart point: Großer Stern
URL:https://no2iri.com/event/the-time-has-come-freedom-rally-for-iran-berlin-germany/
LOCATION:Siegessäule – Berlin\, Großer Stern\, Berlin\, 10557\, Germany
END:VEVENT
BEGIN:VEVENT
DTSTART;TZID=America/Los_Angeles:20221022T110000
DTEND;TZID=America/Los_Angeles:20221022T140000
DTSTAMP:20260419T091112
CREATED:20221019T025258Z
LAST-MODIFIED:20221019T025258Z
UID:526-1666436400-1666447200@no2iri.com
SUMMARY:CARAVAN To LA
DESCRIPTION:BE AT THE BIGGEST REGIME CHANGE PROTEST IN SOCAL HISTORY. \nSATURDAY OCTOBER 22\, 2022 @ 11AM-02:00PM \nPershing Square: 532 S Olive St\, Los Angeles\, CA 90013 \n“FREE BUS SERVICE” TO & FROM OC. PICKUP: 8-9:30AM GREAT PARK\, IRVINE LOT #2” \nWear WHITE\nBring: FLAGS & POSTERS \nFree car Stickers and installation available on Friday From 12-04PM. \n \n 
URL:https://no2iri.com/event/caravan-to-la/
LOCATION:Pershing Square\, 532 S Olive St\, Los Angeles\, CA\, 90013\, United States
END:VEVENT
BEGIN:VEVENT
DTSTART;TZID=America/Los_Angeles:20221022T110000
DTEND;TZID=America/Los_Angeles:20221022T130000
DTSTAMP:20260419T091112
CREATED:20221020T162356Z
LAST-MODIFIED:20221020T165128Z
UID:531-1666436400-1666443600@no2iri.com
SUMMARY:WOMAN LIFE FREEDOM -  GLOBAL DAY OF ACTION FOR IRAN (San Francisco\, CA)
DESCRIPTION:WOMAN\, LIFE.FREEDOM\nGLOBAL DAY OF ACTION FOR IRAN \nSATURDAY OCT 22\, 11:00 AM \nSAN FRANCISCO\nFROM: UN PLAZA\nTO. EMBARCADERO PLAZA \n \n\n10:30 start gathering at UN Plaza and lining up for the march\n11:00 start the march along Market street towards Embarcadero Plaza\n11:45-12:15 arrive at Embarcadero Plaza\n12:15-13:00 rally at Embarcadero Plaza
URL:https://no2iri.com/event/sf/
LOCATION:UN Plaza San Francisco\, 355 McAllister St\, San Francisco\, CA\, 94102\, United States
END:VEVENT
BEGIN:VEVENT
DTSTART;TZID=America/New_York:20221016T160000
DTEND;TZID=America/New_York:20221016T180000
DTSTAMP:20260419T091112
CREATED:20221014T143716Z
LAST-MODIFIED:20221014T143823Z
UID:496-1665936000-1665943200@no2iri.com
SUMMARY:Rally with Car - Atlanta GA
DESCRIPTION:Rally with Car – Piedmont Park – Atlanta\, GA \nSunday October 16 @ 4 PM \nWe will meet at Charles Allen street
URL:https://no2iri.com/event/rally-with-car-atlanta-ga/
LOCATION:NY
END:VEVENT
BEGIN:VEVENT
DTSTART;TZID=America/Chicago:20221016T160000
DTEND;TZID=America/Chicago:20221016T180000
DTSTAMP:20260419T091112
CREATED:20221012T185942Z
LAST-MODIFIED:20221012T191134Z
UID:434-1665936000-1665943200@no2iri.com
SUMMARY:Rally for Iran - Houston\, TX
DESCRIPTION:Location: HOUSTON CITY HALL
URL:https://no2iri.com/event/rally-for-iran-houston-tx/
LOCATION:NY
END:VEVENT
END:VCALENDAR